BEGIN:VCALENDAR
VERSION:2.0
PRODID:-//Cedeso//NONSGML kigkonsult.se iCalcreator 2.30.10//
CALSCALE:GREGORIAN
METHOD:PUBLISH
UID:f4f3330a-b707-47d8-ace7-287ba6eeae35
X-WR-CALNAME:iCagenda
X-WR-CALDESC:Event Management Extension for Joomla!
X-WR-RELCALID:3E26604A-50F4-4449-8B3E-E4F4932D05B5
X-WR-TIMEZONE:America/Costa_Rica
BEGIN:VTIMEZONE
TZID:America/Costa_Rica
BEGIN:STANDARD
TZNAME:CST
DTSTART:20220124T060000
TZOFFSETFROM:+0000
TZOFFSETTO:-0600
END:STANDARD
END:VTIMEZONE
BEGIN:VEVENT
UID:5d1a617b-7393-413f-8dfc-82c0fb60445c
DTSTAMP:20260419T142948Z
CATEGORIES:Mejores Prácticas Organizacionales
CLASS:PUBLIC
DESCRIPTION;ALTREP="CID:<FFFF__=0ABBE548DFE235B58f9e8a93d@coffeebean.com>":
 Jornada Internacional de Reclutamiento y Selección\n¨Reclutamiento y selec
 ción en constante evolución: Jornada 2023¨\nFecha: 26 y 27 de octubre del 
 2023Horario: 8:30 a.m. a 12:30 m.d.Modalidad: VirtualPlataforma: ZoomInver
 sión: $120 + 2% de IVA por participanteInscripciones: info@cedeso.co.cr Te
 l: +506 2225-1007 Whatsapp: +506 6063-9111\nDía # 1:\n'Revolucionando el R
 eclutamiento en la Era Digital: Estrategias de Redes Sociales\, Marca Pers
 onal y Tecnología para atraer a las nuevas generaciones'Daniela Tenorio y 
 Esteban MataPwC\n'Los 3 pecados capitales en los procesos de reclutamiento
  y selección'José Joaquín AcuñaBDS Asesores\nSu participación contará con 
 video informativo de sus socios en El Salvador y Honduras.\n'Repensando la
  atracción y retención de talento: La comunicación como aliado'Valeria Pér
 ez y Diana RomerEY\n“Armonización de la Oferta de Valor”Martha HernándezAo
 n\nDía # 2:\n'Momentos de verdad del postulante'Paulina GramusettLVG\n'¿Có
 mo reclutar un equipo de analítica de datos de manera rápida y barata?'Raú
 l TrejosConstruyendo Talento\n'Diversidad e Inclusión en el Proceso de Sel
 ección'Natalia CárdenasBMA Group\n'La intersección entre la innovación y l
 a atracción de Talento'Lucía RamírezDeloitte
DTSTART:20231026T143000Z
DTEND:20231027T183000Z
GEO:00;0
LOCATION:Virtual por Zoom
ORGANIZER;CN=:info@cedeso.co.cr
SEQUENCE:1
SUMMARY:Jornada Internacional de Reclutamiento y Selección
TRANSP:OPAQUE
URL:https://cedeso.co.cr/eventos-anteriores/764-jornada-internacional-de-re
 clutamiento-y-selecci%C3%B3n
END:VEVENT
END:VCALENDAR
