BEGIN:VCALENDAR
VERSION:2.0
PRODID:-//Cedeso//NONSGML kigkonsult.se iCalcreator 2.30.10//
CALSCALE:GREGORIAN
METHOD:PUBLISH
UID:5a0aeb60-ee90-400a-993a-e466173f3048
X-WR-CALNAME:iCagenda
X-WR-CALDESC:Event Management Extension for Joomla!
X-WR-RELCALID:3E26604A-50F4-4449-8B3E-E4F4932D05B5
X-WR-TIMEZONE:America/Costa_Rica
BEGIN:VTIMEZONE
TZID:America/Costa_Rica
BEGIN:STANDARD
TZNAME:CST
DTSTART:20220205T060000
TZOFFSETFROM:+0000
TZOFFSETTO:-0600
END:STANDARD
END:VTIMEZONE
BEGIN:VEVENT
UID:8f8a5643-e076-4e18-9b5e-24bf0ce4b827
DTSTAMP:20260419T142619Z
CATEGORIES:Mejores Prácticas Organizacionales
CLASS:PUBLIC
DESCRIPTION;ALTREP="CID:<FFFF__=0ABBE548DFE235B58f9e8a93d@coffeebean.com>":
 Taller\nPotenciando la interacción generacional\nFecha: 7 de noviembre del
  2023Duración: 4 horas.Horario mañana: 8:00 a.m. a 12:00 m.d.Horario tarde
 : 1:00 p.m. a 5:00 p.m.Modalidad: Presencial.Inversión: ¢500.000 + 2% de I
 VA por capacitación de 4 horas de duración.Incluye: Material didáctico y c
 ertificado de participación en PDF.\nObjetivos: las y los participantes po
 drán explicar\, aplicar y apreciar los componentes y ventajas de la intera
 cción generacional positiva en el clima y el desempeño organizacional.\nCo
 ntenidos:• Ejercicio de cuerdas bajas “La brújula del equipo”: combina la 
 tipología de roles en los equipos con las diferentes generaciones (de acue
 rdo con el modelo clásico y el modelo GENTICO\, adaptado específicamente p
 ara Costa Rica). Una visión movilizadora de la potencia de la “diversidad 
 dentro de la diversidad”.• Builders\, baby boomers\, X\, Y\, Z y Alfas: en
  Costa Rica son AM\, pregoneros\, satelitales y virtuales. Un acercamiento
  a las generaciones desde el estudio GENTICO y el ser costarricense.• Comu
 nicación\, colaboración y desempeño: fortalezas de cada generación y los p
 eligros de sobreestereotiparlas. Ejercicio: ¿Cuáles son tus fortalezas? un
 a mirada apreciativa sobre las creencias que se tiene sobre las diferentes
  generaciones.• Edades\, períodos y cohortes: la comunicación\, confianza\
 , colaboración\, manejo constructivo del conflicto y apertura que son clav
 es para aprovechar el potencial de cada generación.• Efecto Rosenthal\, se
 sgos y estereotipos: ¿Cómo hacer una gestión eficiente de la diversidad ge
 neracional? Ejercicio de cierre: 5 guías para la acción en MSJ para libera
 r todo el potencial de la diversidad generacional.\nFacilitador: Dr. Enriq
 ue Margery- Doctor en Educación y TEDx speaker.- Profesor invitado de la U
 niversidad de Querétaro (UAQ\, México) y la Universidad UAGM (Puerto Rico)
 .- Diseña capacitación para desarrollo de soft skills basado en aprendizaj
 e por la experiencia\, GBL y “reto-aprendizaje”.- Coach especialista en ci
 encia de la colaboración y manejo de top performers.- Diseña herramientas 
 para medir el Sentido de Urgencia\, el “termómetro de la colaboración” y l
 a rentabilidad de la capacitación\, entre otros.- Autor de los libros “Com
 plejidad y Competencias”\, “Herramientas de Coaching”\, “El Viaje” (Editor
 ial Norma\; uno de los primeros libros de psicología positiva publicados) 
 y 'Bájate de la escalera'.\nTodas nuestras capacitaciones pueden ser impar
 tidas en su organización\nInscripciones a info@cedeso.co.crTel: +506 2225-
 1007 Whatsapp: +506 6063-9111Visite nuestra página www.cedeso.co.crfaceboo
 k.com/cedesocostarica
DTSTART:20231107T140000Z
DTEND:20231107T180000Z
GEO:00;0
LOCATION:Presencial
ORGANIZER;CN=:info@cedeso.co.cr
SEQUENCE:1
SUMMARY:Potenciando la interacción generacional
TRANSP:OPAQUE
URL:https://cedeso.co.cr/eventos-anteriores/765-potenciando-la-interacci%C3
 %B3n-generacional
END:VEVENT
END:VCALENDAR
