BEGIN:VCALENDAR
VERSION:2.0
PRODID:-//Cedeso//NONSGML kigkonsult.se iCalcreator 2.30.10//
CALSCALE:GREGORIAN
METHOD:PUBLISH
UID:bad23223-40c3-4411-9193-db91e0281db7
X-WR-CALNAME:iCagenda
X-WR-CALDESC:Event Management Extension for Joomla!
X-WR-RELCALID:3E26604A-50F4-4449-8B3E-E4F4932D05B5
X-WR-TIMEZONE:America/Costa_Rica
BEGIN:VTIMEZONE
TZID:America/Costa_Rica
BEGIN:STANDARD
TZNAME:CST
DTSTART:20220225T060000
TZOFFSETFROM:+0000
TZOFFSETTO:-0600
END:STANDARD
END:VTIMEZONE
BEGIN:VEVENT
UID:0cc299a6-d7f9-4f30-8811-c279b7a7106c
DTSTAMP:20260419T130030Z
CATEGORIES:Mejores Prácticas Organizacionales
CLASS:PUBLIC
DESCRIPTION;ALTREP="CID:<FFFF__=0ABBE548DFE235B58f9e8a93d@coffeebean.com>":
 Taller\nPrimeros Auxilios Emocionales Organizacionales\nMotivación al tall
 er: Las y los funcionarios que forman la primera línea de atención de pers
 onas en crisis deben ser capaces de aplicar herramientas efectivas para da
 r contención y apoyo. Asimismo\, deben contar con las herramientas necesar
 ias para mantener su bienestar emocional y mental mientras enfrentan situa
 ciones difíciles y estresantes.\nObjetivos: Las y los participantes serán 
 capaces de explicar\, aplicar y apreciar herramientas esenciales tanto par
 a dar apoyo a personas y equipos en tiempos difíciles\, como para gestiona
 r su propio autocuidado.\nFecha: 27\, 28 y 29 de noviembre del 2023Horario
 : 8:30 a.m. a 12:30 m.d.Duración: 12 horas.Modalidad: Presencial.Inversión
 : ¢215.000 + 2% de IVA por participante.Incluye: Material didáctico y cert
 ificado de participación en PDF.\nContenidos:1.Los primeros auxilios psico
 lógicos en el contexto organizacional:Siete diferencias entre el PAP tradi
 cional y su manejo organizacional. Un primer acercamiento al proceso integ
 ral.Buenas y malas prácticas: ¿Qué tipo de escucha y apoyo debemos dar a l
 as personas en dificultades? Práctica de escucha entrenada.Estabilizar\, d
 erivar y manejo del protocolo PARE para jefaturas y personal no clínico.Re
 glas y herramientas de grounding. Enfocar al individuo: herramientas psico
 educativas para activar los recursos personales.\n2.Cuidando a la primera 
 línea de cuidado:Definición de autocuidado y su importancia en personal qu
 e atiende a personas en dificultades. Impacto de la falta de autocuidado e
 n la salud mental.Identificación de señales de estrés y gotamiento.Técnica
 s de manejo del estrés. Respiración y relajación. Estrategias de afrontami
 ento emocional.Fomentar la resiliencia: ¿Qué es y cómo se desarrolla?Fomen
 tando límites saludables y lidiando con la fatiga por compasión.Redes de a
 poyo y planificación del autocuidado personal: reglas y herramientas.\n3. 
 Temas avanzados:La intelemoción: inteligencia intra e interpersonal. Traba
 jo con ejercicio “El Helicóptero (CBT)” y “Puntos calientes” para trabajar
  la autorregulación emocional.Tres ejes de la compasión en acción (hacia o
 tros\, desde otros y la autocompasión). Empatía y compasión en acción: tra
 bajo con autoafirmaciones (eficacia\, afrontamiento y mentalidad de crecim
 iento) y apoyo fuera del contexto terapéutico.Manejo de herramientas psico
 educativas\, enfoque\, movilización de recursos y referencia a procesos in
 stitucionales.Herramientas de trabajo en el pensamiento.\nEquipo interdisc
 iplinar de primeros auxilios psicológicos en el contexto laboral: Dr. Enri
 que Margery (Coordinador de entrenamiento)\, Dra. Ana Ligia Monge (Coordin
 adora clínica)\, Dr. Carlos Arrieta (psicólogo) y Dra. Solange Margery (ps
 iquiatra).\nTodas nuestras capacitaciones pueden ser impartidas en su orga
 nización\nInscripciones a info@cedeso.co.crTel: +506 2225-1007 Whatsapp: +
 506 6063-9111Visite nuestra página www.cedeso.co.crfacebook.com/cedesocost
 arica
DTSTART:20231127T143000Z
DTEND:20231129T183000Z
GEO:00;0
LOCATION:Presencial
ORGANIZER;CN=:info@cedeso.co.cr
SEQUENCE:1
SUMMARY:Primeros Auxilios Emocionales Organizacionales
TRANSP:OPAQUE
URL:https://cedeso.co.cr/eventos-anteriores/766-primeros-auxilios-emocional
 es-organizacionales
END:VEVENT
END:VCALENDAR
