BEGIN:VCALENDAR
VERSION:2.0
PRODID:-//Cedeso//NONSGML kigkonsult.se iCalcreator 2.30.10//
CALSCALE:GREGORIAN
METHOD:PUBLISH
UID:9fc4cfdc-a240-4fec-98be-54b79ef6ca8c
X-WR-CALNAME:iCagenda
X-WR-CALDESC:Event Management Extension for Joomla!
X-WR-RELCALID:3E26604A-50F4-4449-8B3E-E4F4932D05B5
X-WR-TIMEZONE:America/Costa_Rica
BEGIN:VTIMEZONE
TZID:America/Costa_Rica
BEGIN:STANDARD
TZNAME:CST
DTSTART:20220207T060000
TZOFFSETFROM:+0000
TZOFFSETTO:-0600
END:STANDARD
END:VTIMEZONE
BEGIN:VEVENT
UID:a9ecb8c5-1a6f-4ed7-9ee8-8c0510eb2af3
DTSTAMP:20260419T142252Z
CATEGORIES:Mejores Prácticas Organizacionales
CLASS:PUBLIC
DESCRIPTION;ALTREP="CID:<FFFF__=0ABBE548DFE235B58f9e8a93d@coffeebean.com>":
 Taller:\nCompensación variable\nMotivar y recompensar el desempeño excepci
 onal ayudando a comprender y gestionar este aspecto crítico de la compensa
 ción\nFecha: 9 y 10 noviembre del 2023.Horario: 8:30 a.m. a 11:30 a.m.Dura
 ción: 6 horas.Metodología: Virtual. Plataforma: Zoom.Inversión: ¢75.000 + 
 2% de IVA por participante. Incluye: Material y certificado de participaci
 ón en PDF.Facilitador: Lic. Carlos Solera.\nDirigido a Profesionales y téc
 nicos involucrados en la gestión de las compensaciones.Otros interesados e
 n aprender sobre una temática cada día más relevante.\nObjetivoComprender 
 qué es y la importancia estratégica de la compensación variable.Conocer lo
 s objetivos principales y las diferentes opciones de compensación variable
 .\nContenidos• Introducción a la compensación variable: Definiciones\, obj
 etivos e importancia en la estrategia de recursos humanos.• Principios gen
 erales.• Tipos de compensación variable.• Pasos para el diseño de programa
 s de compensación varialbe\, indicadores.• Alernativas de pago\, costos y 
 financiación.• Administración y comunicación.• Evaluación del impacto.• Ca
 sos de estudio.\nFacilitador: Lic. Carlos Solera Umaña Licenciado en admin
 istración de negocios\, certificado en Compensación y Beneficios y en Comp
 etencias\, técnico en seguros. Más de 30 años de experiencia en todos los 
 subprocesos de Gestión de RRHH. Amplia experiencia en organizaciones de ma
 nufactura\, servicios\, cooperativas y ONG’s. Actual fundador y director d
 e CEDESO.S.A.\nTodas nuestras capacitaciones pueden ser impartidas en su o
 rganización\nInscripciones a: info@cedeso.co.crTel: +506 2225-1007 Whatsap
 p: +506 6063-9111Visite nuestra página www.cedeso.co.crfacebook.com/cedeso
 costarica
DTSTART:20231109T143000Z
DTEND:20231110T173000Z
GEO:00;0
LOCATION:Virtual por Zoom
ORGANIZER;CN=:info@cedeso.co.cr
SEQUENCE:1
SUMMARY:Compensación variable
TRANSP:OPAQUE
URL:https://cedeso.co.cr/eventos-anteriores/767-compensaci%C3%B3n-variable
END:VEVENT
END:VCALENDAR
