BEGIN:VCALENDAR
VERSION:2.0
PRODID:-//Cedeso//NONSGML kigkonsult.se iCalcreator 2.30.10//
CALSCALE:GREGORIAN
METHOD:PUBLISH
UID:81db3b69-61c8-478d-858e-dfa7e4893fe4
X-WR-CALNAME:iCagenda
X-WR-CALDESC:Event Management Extension for Joomla!
X-WR-RELCALID:3E26604A-50F4-4449-8B3E-E4F4932D05B5
X-WR-TIMEZONE:America/Costa_Rica
BEGIN:VTIMEZONE
TZID:America/Costa_Rica
BEGIN:STANDARD
TZNAME:CST
DTSTART:20220221T060000
TZOFFSETFROM:+0000
TZOFFSETTO:-0600
END:STANDARD
END:VTIMEZONE
BEGIN:VEVENT
UID:214f6dfe-5c10-4993-b8ed-805040884b4c
DTSTAMP:20260419T142900Z
CATEGORIES:Mejores Prácticas Organizacionales
CLASS:PUBLIC
DESCRIPTION;ALTREP="CID:<FFFF__=0ABBE548DFE235B58f9e8a93d@coffeebean.com>":
 Taller:\nSeguridad psicológica en los equipos\nFecha: 23 de noviembre del 
 2023.Horario: 8:00 a.m. a 12:00 m.d.Duración: 4 horas.Plataforma: Zoom.Inv
 ersión: ¢65.000 + 2% de IVA por participante.Incluye: Material didáctico y
  certificado de participación en versión digital.\nMotivación: Más allá de
  la empatía y la asertividad\, la seguridad psicológica es la nueva fronte
 ra del desempeño colaborativo.\nObjetivos: las y los participantes podrán 
 explicar\, aplicar y apreciar los componentes y gestión de la seguridad ps
 icológica en los equipos de empresa.\nContenidos:• Entendiendo a fondo las
  dinámicas de los equipos: cuatro niveles de colaboración y el trabajo de 
 Eduardo Salas y los ocho componentes del trabajo en equipo. Ejercicio de t
 ransferencia (TRANSFER): el monitoreo mutuo en nuestra organización.• Si l
 a mentalidad del miedo fue tan efectiva en la cadena de montaje\, ¿por qué
  no funciona en la moderna empresa colaborativa-interdisciplinar? No todos
  los fallos dan igual: aprendizaje\, desempeño y las tres familias de fall
 as. Equipos efectivos y cómo trabajar con “fallos inteligentes”. TRANSFER:
  casos y procesos de las tres familias de fallos en nuestra propia organiz
 ación.• Fallas inteligentes y la Seguridad Psicológica (SPS). La SPS en su
 s componentes\, ejemplos concretos y en iniciativas para crearla y mantene
 rla. ¿Qué no es la SPS? 7 señales de que estamos aplicando mal el concepto
 .• Tres capacidades que al mezclarse producen las tres intenciones fundame
 ntales del liderazgo para la seguridad psicológica.• La matriz de segurida
 d psicológica en los equipos: los cuatro cuadrantes y los comportamientos 
 esperados en cada uno de ellos. TRANSFER: seguridad psicológica en acción 
 en nuestra propia organización.\nFacilitador: Dr. Enrique Margery- Doctor 
 en Educación y TEDx speaker.- Profesor invitado de la Universidad de Queré
 taro (UAQ\, México) y la Universidad UAGM (Puerto Rico).- Diseña capacitac
 ión para desarrollo de soft skills basado en aprendizaje por la experienci
 a\, GBL y “reto-aprendizaje”.- Coach especialista en ciencia de la colabor
 ación y manejo de top performers.- Diseña herramientas para medir el Senti
 do de Urgencia\, el “termómetro de la colaboración” y la rentabilidad de l
 a capacitación\, entre otros.- Autor de los libros “Complejidad y Competen
 cias”\, “Herramientas de Coaching”\, “El Viaje” (Editorial Norma\; uno de 
 los primeros libros de psicología positiva publicados) y 'Bájate de la esc
 alera'.\nTodas nuestras capacitaciones pueden ser impartidas en su organiz
 ación\nInscripciones a: info@cedeso.co.crTel: +506 2225-1007 Whatsapp: +50
 6 6063-9111Visite nuestra página www.cedeso.co.crfacebook.com/cedesocostar
 ica
DTSTART:20231123T140000Z
DTEND:20231123T180000Z
GEO:00;0
LOCATION:Virtual por Zoom
ORGANIZER;CN=:info@cedeso.co.cr
SEQUENCE:1
SUMMARY:Seguridad psicológica en los equipos
TRANSP:OPAQUE
URL:https://cedeso.co.cr/eventos-anteriores/768-seguridad-psicol%C3%B3gica-
 en-los-equipos
END:VEVENT
END:VCALENDAR
