BEGIN:VCALENDAR
VERSION:2.0
PRODID:-//Cedeso//NONSGML kigkonsult.se iCalcreator 2.30.10//
CALSCALE:GREGORIAN
METHOD:PUBLISH
UID:9ec88a3e-416f-492a-a214-267e2798ffb9
X-WR-CALNAME:iCagenda
X-WR-CALDESC:Event Management Extension for Joomla!
X-WR-RELCALID:3E26604A-50F4-4449-8B3E-E4F4932D05B5
X-WR-TIMEZONE:America/Costa_Rica
BEGIN:VTIMEZONE
TZID:America/Costa_Rica
BEGIN:STANDARD
TZNAME:CST
DTSTART:20220213T060000
TZOFFSETFROM:+0000
TZOFFSETTO:-0600
END:STANDARD
END:VTIMEZONE
BEGIN:VEVENT
UID:82e4e5cd-a107-4f39-a092-2d5b6462040c
DTSTAMP:20260419T142749Z
CATEGORIES:Mejores Prácticas Organizacionales
CLASS:PUBLIC
DESCRIPTION;ALTREP="CID:<FFFF__=0ABBE548DFE235B58f9e8a93d@coffeebean.com>":
 Taller:\n¿Cómo potenciar el Diseño Instruccional con Inteligencia Artifici
 al?\nFecha: 15 y 16 de noviembre del 2023.Horario: 8:00 a.m. a 12:00 m.d.M
 odalidad: Virtual.Inversión: ¢120.000 + 2% de IVA por participante.\nDescu
 bre cómo utilizar la inteligencia artificial para llevar tus programas de 
 capacitación al siguiente nivel\n¡Bienvenidos al taller 'Cómo potenciar el
  Diseño Instruccional con Inteligencia Artificial'! Este taller está diseñ
 ado especialmente para profesionales de capacitación como ustedes\, que bu
 scan mejorar y optimizar sus estrategias de diseño instruccional utilizand
 o las últimas tecnologías y enfoques innovadores.En la era digital en la q
 ue nos encontramos\, la Inteligencia Artificial (IA) se ha convertido en u
 na herramienta poderosa y transformadora en diversos campos\, incluyendo l
 a capacitación. La IA tiene el potencial de personalizar la experiencia de
  aprendizaje\, adaptándola a las necesidades y preferencias individuales d
 e cada participante\, lo que lleva a una mayor efectividad y compromiso.Du
 rante este taller\, exploraremos los fundamentos de la IA y su aplicación 
 en el diseño instruccional. Aprenderemos cómo la IA puede mejorar la exper
 iencia de aprendizaje y cómo podemos utilizar herramientas y tecnologías d
 e IA para crear contenidos personalizados que realmente impacten a nuestro
 s participantes.Además\, abordaremos temas clave como la construcción de g
 uiones y el diseño gráfico para la creación de contenidos\, brindándoles l
 as habilidades necesarias para crear materiales visuales atractivos y efec
 tivos.Estamos seguros de que este taller les brindará las herramientas nec
 esarias para potenciar sus habilidades de diseño instruccional y aprovecha
 r al máximo el potencial de la IA en su trabajo. ¡Únanse a nosotros en est
 a emocionante jornada de aprendizaje y descubrimiento!\nContenidos:Módulo 
 1: Introducción al Diseño Instruccional (D.I.)Comprender los conceptos bás
 icos del Diseño Instruccional• Definición y objetivos del Diseño Instrucci
 onal.• Importancia de la estructura en la capacitación.\nMódulo 2: Fundame
 ntos de la Inteligencia Artificial (IA)Identificar las aplicaciones de la 
 IA en el campo de la capacitación empresarial.• ¿Qué es la IA y cómo funci
 ona?• Aplicaciones de la IA en el campo de la capacitación empresarial.\nM
 ódulo 3: Integración de la IA en el D.I.Comprender cómo la IA puede mejora
 r la experiencia de aprendizaje.• Cómo la IA puede mejorar la experiencia 
 de aprendizaje.• Herramientas y tecnología de IA para el Diseño Instruccio
 nal.\nMódulo 4: Construcción de guiones - IAAprender los principios básico
 s para la elaboración de guiones efectivos.• Principios básicos para la el
 aboración de guiones.• Estructura y elementos clave de un guion efectivo.
 \nMódulo 5: Diseño gráfico IA creación de contenidoUtilizar herramientas y
  recursos para diseñar materiales visuales impactantes• Principios básicos
  de diseño gráfico.• Herramientas y recursos para el diseño de materiales 
 visuales.\nMódulo 6: Casos de éxito y mejores prácticasEstudiar casos que 
 han implementado exitosamente la IA en su Diseño Instruccional.• Estudio d
 e casos de organizaciones que han implementado con éxito la IA en su Diseñ
 o Instruccional.• Consejos y recomendaciones para la implementación de IA 
 en el Diseño Instruccional.\nMódulo 7: Sesión prácticaDesarrollar un proye
 cto de Diseño Instruccional con IA.• Desarrollo de un proyecto de Diseño I
 nstruccional con IA.• Evaluación y retroalimentación de los participantes.
 \nMetodología• Experiencialidad : Aprendizajes significativos\, donde el p
 articipante hace coherencia con su papel protagónico en su labor y se alin
 ea con los resultados esperados. Se utilizan situaciones reales que permit
 a desde reflexiona hasta actuar.• Aprendizaje Colaborativo: Centrado en la
  interconexión entre los miembros de la comunidad de aprendizaje\, que pot
 encie las capacidades en el momento de crear. Sub-grupos.• Apropiación (Pr
 oducto transversal): Aplicación del aprendizaje en un producto transversal
  atendiendo realidades y problemas reales con la oportunidad de implementa
 ción.\nFacilitador: Alejandro Pérez MolinaDirector de Gestión del Conocimi
 ento e Innovación Educativa (I+D+i) en CrearMedia México\, Colombia\, Guat
 emala y Perú. Certified Knowledge Manager Officer – CKMOProductor de medio
 s audiovisuales\, énfasis en publicidad y mercadeo. Experto en diseño\, de
 sarrollo e implementación de soluciones en Gestión de Conocimiento y Blend
 ed Learning para ambientes virtuales de aprendizaje. Diseño y desarrollo d
 e productos e-learning. Experto en Diseño Instruccional\, educación del im
 pacto en la capacitación y programas de Recursos Humanos – Instituto ROI. 
 Implementación de Indicadores de Gestión Humana. Human Performance Technol
 ogy – HPT Líder Coach Sistémico Docente de postgrado en Edumática y TIC pa
 ra la educación\, en la universidad de la Sabana\, Central y Gran Colombia
 . Creador del Diplomado Formador de Formadores de Cámara de Comercio de Bo
 gotá – 90 horas.Durante 20 años he acompañado a nuestros clientes como dir
 ector de programas en Gestión del Conocimiento\, diseño instruccional/didá
 ctico/pedagógico\, desarrollo de productos e-learning/b-learning y asesor 
 de escuelas virtuales para diferentes sectores y empresas reconocidas en A
 mérica Latina.\nTodas nuestras capacitaciones pueden ser impartidas en su 
 organización\nInscripciones a: info@cedeso.co.crTel: +506 2225-1007 Whatsa
 pp: +506 6063-9111Visite nuestra página www.cedeso.co.crfacebook.com/cedes
 ocostarica
DTSTART:20231115T140000Z
DTEND:20231116T180000Z
GEO:00;0
LOCATION:Virtual
ORGANIZER;CN=:info@cedeso.co.cr
SEQUENCE:1
SUMMARY:¿Cómo potenciar el Diseño Instruccional con Inteligencia Artificial
 ?
TRANSP:OPAQUE
URL:https://cedeso.co.cr/eventos-anteriores/769-%C2%BFc%C3%B3mo-potenciar-e
 l-dise%C3%B1o-instruccional-con-inteligencia-artificial
END:VEVENT
END:VCALENDAR
