BEGIN:VCALENDAR
VERSION:2.0
PRODID:-//Cedeso//NONSGML kigkonsult.se iCalcreator 2.30.10//
CALSCALE:GREGORIAN
METHOD:PUBLISH
UID:d62efdef-1a86-40be-9f3d-13e8a275725d
X-WR-CALNAME:iCagenda
X-WR-CALDESC:Event Management Extension for Joomla!
X-WR-RELCALID:3E26604A-50F4-4449-8B3E-E4F4932D05B5
X-WR-TIMEZONE:America/Costa_Rica
BEGIN:VTIMEZONE
TZID:America/Costa_Rica
BEGIN:STANDARD
TZNAME:CST
DTSTART:20220304T060000
TZOFFSETFROM:+0000
TZOFFSETTO:-0600
END:STANDARD
END:VTIMEZONE
BEGIN:VEVENT
UID:55c9b134-59f9-4249-b3d3-525b7ed95a45
DTSTAMP:20260419T125845Z
CATEGORIES:Operaciones
CLASS:PUBLIC
DESCRIPTION;ALTREP="CID:<FFFF__=0ABBE548DFE235B58f9e8a93d@coffeebean.com>":
 Taller:\n¿Cómo realizar compras internacionales estratégicas para tomar de
 cisiones efectivas?\nFecha: 4 y 5 de diciembre del 2023.Horario: 8:30 a.m.
  a 11:30 m.d.Duración: 6 horas.Plataforma: Zoom.Inversión: ¢55.000 + 2% de
  IVA por participante.Incluye: Material didáctico y certificado de partici
 pación en PDF.Facilitadora: Licda. Yorleny Jiménez.\nObjetivo: Analizar la
 s principales competencias que se deben de tomar en cuenta para realizar u
 na compra a nivel internacional efectiva y eficiente.\nContenido temático:
 Generalidades del proceso de compras:• Estrategia del suministro.• Proceso
  del suministro.• Identificación y especificación de las necesidades.• Sel
 ección de proveedores.• Evaluación y relación con los proveedores.\nAspect
 os relevantes de la compra venta internacional:• Búsqueda de proveedores i
 nternacionales.• Negociación con proveedores internacionales (aplicación d
 e contratos\, INCOTERMS 2020\, medios y formas de pago internacional\, aná
 lisis de precios).• Análisis estratégica de la logística de importación pa
 ra la correcta toma de decisiones.\nAnálisis de riesgos en la compra venta
  internacional y cómo mitigarlos:• Análisis de los riesgos que se pueden e
 ncontrar durante el proceso de la compra venta internacional.• El papel de
  los INCOTERMS en el manejo del riesgo.• Seguros.• Riesgos aduaneros.• Mat
 riz de riesgo.• KPI´s.\nFacilitadora: Licda. Yorleny Jiménez RojasGraduada
  con honores de la Universidad de Costa Rica en la carrera de Administraci
 ón Aduanera y Comercio Exterior. Certificada como especialista en Supply C
 hain de la Universidad de Nebrija en España.Actualmente consultora indepen
 diente con 20 años de experiencia en manejo y desarrollo de procesos de in
 ternacionalización y logística especialmente para el sector agrícola.Espec
 ialista en desarrollo de acompañamientos empresariales en temas de importa
 ción\, exportación\, logística internacional\, entre otros.Profesora de la
  Universidad de Costa Rica\, Universidad FUNDEPOS y capacitadora activa en
  diferentes Cámaras que agremia exportadores\, importadores\, empresas PYM
 ES\, entidades estatales\, colegios profesionales\, entre otros.\nTodas nu
 estras capacitaciones pueden ser impartidas en su organización\nInscripcio
 nes a: info@cedeso.co.crTel: +506 2225-1007 Whatsapp: +506 6063-9111Visite
  nuestra página www.cedeso.co.crfacebook.com/cedesocostarica
DTSTART:20231204T143000Z
DTEND:20231205T173000Z
GEO:00;0
LOCATION:Virtual por Zoom
ORGANIZER;CN=:info@cedeso.co.cr
SEQUENCE:1
SUMMARY:¿Cómo realizar compras internacionales estratégicas para tomar deci
 siones efectivas?
TRANSP:OPAQUE
URL:https://cedeso.co.cr/eventos-anteriores/770-%C2%BFc%C3%B3mo-realizar-co
 mpras-internacionales-estrat%C3%A9gicas-para-tomar-decisiones-efectivas
END:VEVENT
END:VCALENDAR
