BEGIN:VCALENDAR
VERSION:2.0
PRODID:-//Cedeso//NONSGML kigkonsult.se iCalcreator 2.30.10//
CALSCALE:GREGORIAN
METHOD:PUBLISH
UID:4da9113e-f1c4-44b4-bf82-1df345f23cf5
X-WR-CALNAME:iCagenda
X-WR-CALDESC:Event Management Extension for Joomla!
X-WR-RELCALID:3E26604A-50F4-4449-8B3E-E4F4932D05B5
X-WR-TIMEZONE:America/Costa_Rica
BEGIN:VTIMEZONE
TZID:America/Costa_Rica
BEGIN:STANDARD
TZNAME:CST
DTSTART:20220227T060000
TZOFFSETFROM:+0000
TZOFFSETTO:-0600
END:STANDARD
END:VTIMEZONE
BEGIN:VEVENT
UID:52509bb0-46f6-4350-a37a-afef4405e505
DTSTAMP:20260419T142655Z
CATEGORIES:Operaciones
CLASS:PUBLIC
DESCRIPTION;ALTREP="CID:<FFFF__=0ABBE548DFE235B58f9e8a93d@coffeebean.com>":
 Seminario:\nInventario cíclico\nUn método para mejorar continuamente\nFech
 a: 29 y 30 de noviembre del 2023.Horario: 8:30 a.m. a 12:30 m.d.Duración: 
 8 horas.Modalidad: Virtual.Plataforma: Zoom.Inversión: ¢75.000 + 2% de IVA
  por participante.Incluye: Material y certificado de participación en PDF.
 Facilitador: Ing. Víctor León\, Mg.\nObjetivo del seminario: Presentar a l
 os participantes un método práctico y probado para implementar un efectivo
  control de su inventario físico que garantice exactitudes superiores al 9
 5%\nTemario: • Control de inventario físico eslabón entre la bodega y la a
 dministración de inventarios. • Clasificación Abc. • Metodología de toma d
 el inventario físico. • Qué es y cómo se implementa un inventario cíclico.
  • Control preventivo de pérdidas y variaciones de inventario. • Implement
 ación de un sistema de mejora continua vía inventario cíclico.\nFacilitado
 r: Ing. Víctor León\, Mg.Ingeniero Industrial con estudios de Postgrado en
  Ingeniería Industrial\, Gerencia de RRHH y Dinámica de Grupos. Experienci
 a en las áreas de Distribución\, Atención al Cliente y Planificación de la
  Producción\, Manejo de Inventarios\, Almacenes\, Costos y Elaboración de 
 Proyectos de Inversión. Certificación como conferencista internacional. Mi
 embro de la asociación de conferencistas Hispanos. Capacitador en áreas ge
 renciales y técnicas\, con 20 años de experiencia.\nTodas nuestras capacit
 aciones pueden ser impartidas en su organización.\nInscripciones a: info@c
 edeso.co.crTel: +506 2225-1007Whatsapp: +506 6063-9111Visite nuestra págin
 a www.cedeso.co.crfacebook.com/cedesocostarica
DTSTART:20231129T143000Z
DTEND:20231130T183000Z
GEO:00;0
LOCATION:Virtual por Zoom
ORGANIZER;CN=:info@cedeso.co.cr
SEQUENCE:1
SUMMARY:Inventario cíclico
TRANSP:OPAQUE
URL:https://cedeso.co.cr/eventos-anteriores/776-inventario-c%C3%ADclico-4
END:VEVENT
END:VCALENDAR
