BEGIN:VCALENDAR
VERSION:2.0
PRODID:-//Cedeso//NONSGML kigkonsult.se iCalcreator 2.30.10//
CALSCALE:GREGORIAN
METHOD:PUBLISH
UID:6747bd1c-e65d-4a04-9d2d-e1d3e1ffcd1b
X-WR-CALNAME:iCagenda
X-WR-CALDESC:Event Management Extension for Joomla!
X-WR-RELCALID:3E26604A-50F4-4449-8B3E-E4F4932D05B5
X-WR-TIMEZONE:America/Costa_Rica
BEGIN:VTIMEZONE
TZID:America/Costa_Rica
BEGIN:STANDARD
TZNAME:CST
DTSTART:20220424T060000
TZOFFSETFROM:+0000
TZOFFSETTO:-0600
END:STANDARD
END:VTIMEZONE
BEGIN:VEVENT
UID:48a85636-ca8b-48a5-a8a2-39530b47b479
DTSTAMP:20260419T124701Z
CATEGORIES:Ventas
CLASS:PUBLIC
DESCRIPTION;ALTREP="CID:<FFFF__=0ABBE548DFE235B58f9e8a93d@coffeebean.com>":
 Taller:\nEl poder de las ventas proactivas\n'Fortalezca el potencial de su
 s vendedores y supere objetivos'\nFechas: 24 y 25 de enero del 2024.Horari
 o: 8:30 a.m. a 12:30 m.d.Duración: 8 horas.Plataforma: Zoom.Inversión: ¢75
 .000 + 2% de IVA por participante.Incluye: Material y certificado de parti
 cipación en PDF.\nEl taller “El Poder de las Ventas Proactivas” ofrece un 
 excelente método para desarrollar habilidades y conocimientos en el campo 
 de las ventas directas. A través de este programa los participantes conoce
 rán técnicas para superar paradigmas limitantes\, incrementar su nivel de 
 acción\, prospección\, comunicaciones vendedoras y manejos de desacuerdos 
 con objeciones.Además de los beneficios individuales\, la participación en
  este curso también tendrá un impacto positivo en los equipos de ventas.\n
 ¿Qué aprenderá?Estrategia y tácticas para tomar más iniciativa en el proce
 so de ventas\, generando nuevas oportunidades y maximizando sus resultados
 .\n¿A quién va dirigido?¯ Representantes de ventas\, ejecutivos de ventas 
 y profesionales encargados de la venta directas de sus productos o servici
 os.¯ Equipos de ventas que buscan alcanzar mejores resultados comerciales.
 ¯ Emprendedores y propietarios de pequeñas empresas que busquen expandir s
 u actividad comercial.\nTemario:1.Introducción a las ventas proactivas.-Co
 ncepto de ventas proactivas.-Responsabilidad causativa por los objetivos d
 e ventas.-Diferencia entre ventas proactivas y reactivas.\n2.Prospección p
 roactiva de clientes.-Métodos efectivos de prospección.-Calificación e ide
 ntificación de prospectos.-Importancia y uso de archivos comerciales.\n3.C
 omunicaciones vendedoras.-Fórmula de comunicación en las ventas.-Cómo sint
 onizar con cualquier tipo de cliente.-Comunicación informativa Vs proactiv
 a.\n4.Manejo proactivo de objeciones.-Como avanzar en una escala de desacu
 erdos.-Táctica para manejar cualquier tipo de objeción.-4 pasos para concr
 etar un cierre proactivo.\nFacilitador: Joel Maldonado RodríguezEgresado d
 e la Universidad Carabobo Venezuela: conferencista experimentado y facilit
 ador de cursos Dirección de Personal y Liderazgo\, Ventas\, Servicio al Cl
 iente y Desarrollo Organizacional. Ha diseñado programas de capacitación p
 ara empresas\, basado en técnicas funcionales y de aplicación inmediata. P
 ersonalmente ha entrenado a más de 15.000 personas en México\, Venezuela\,
  Colombia\, Costa Rica\, Panamá\, República Dominicana\, Salvador y Nicara
 gua con resultados comprobados. Creador del Modelo para un Entorno Laboral
  Feliz y Productivo.\nTodas nuestras capacitaciones pueden ser impartidas 
 en su organización\nInscripciones a: info@cedeso.co.crTel: +506 2225-1007W
 hatsapp: +506 6063-9111Visite nuestra página www.cedeso.co.crfacebook.com/
 cedesocostarica
DTSTART:20240124T143000Z
DTEND:20240125T183000Z
GEO:00;0
LOCATION:Virtual por Zoom
ORGANIZER;CN=:info@cedeso.co.cr
SEQUENCE:1
SUMMARY:El poder de las ventas proactivas
TRANSP:OPAQUE
URL:https://cedeso.co.cr/eventos-anteriores/778-el-poder-de-las-ventas-proa
 ctivas-2
END:VEVENT
END:VCALENDAR
