BEGIN:VCALENDAR
VERSION:2.0
PRODID:-//Cedeso//NONSGML kigkonsult.se iCalcreator 2.30.10//
CALSCALE:GREGORIAN
METHOD:PUBLISH
UID:babc89e8-c382-45ae-a2d4-173b584d05d5
X-WR-CALNAME:iCagenda
X-WR-CALDESC:Event Management Extension for Joomla!
X-WR-RELCALID:3E26604A-50F4-4449-8B3E-E4F4932D05B5
X-WR-TIMEZONE:America/Costa_Rica
BEGIN:VTIMEZONE
TZID:America/Costa_Rica
BEGIN:STANDARD
TZNAME:CST
DTSTART:20220305T060000
TZOFFSETFROM:+0000
TZOFFSETTO:-0600
END:STANDARD
END:VTIMEZONE
BEGIN:VEVENT
UID:c7c46db4-a6e2-43f7-a087-90d7dafb4bb2
DTSTAMP:20260419T125532Z
CATEGORIES:Mejores Prácticas Organizacionales
CLASS:PUBLIC
DESCRIPTION;ALTREP="CID:<FFFF__=0ABBE548DFE235B58f9e8a93d@coffeebean.com>":
 Taller:\nPresentaciones Efectivas Avanzadas (PEA)\nFecha: 5 de diciembre d
 el 2023.Horario: 8:00 a.m. a 4:00 p.m.Duración: 8 horas.Modalidad: ¡PRESEN
 CIAL!Lugar: Hotel Radisson\, B° Tournón.Inversión: ¢120.000 + 2% de IVA po
 r participante.Incluye: Alimentación\, material didáctico y certificado de
  participación en PDF.Facilitador: Dr. Enrique Margery\nMotivación: las pr
 esentaciones efectivas son tanto una ciencia como un arte\, que demandan a
 tención a una serie de factores cruciales\, usualmente ignorados.\nObjetiv
 os: las y los participantes podrán explicar\, aplicar y apreciar métodos y
  herramientas para diseñar y entregar presentaciones ejecutivas efectivas.
 \nMetodología: aprendizaje-acción\; manejo del modelo de microteaching (St
 anford).\nContenidos y actividades:1.Diseño de presentaciones:• Mediación 
 pedagógica de las presentaciones. • Dando en el clavo: manejo de triadas y
  los cuatro niveles de requerimientos.• Facilite el trabajo del participan
 te: manejo de principios de carga cognitiva.• Manejo del modelo ARCS para 
 motivar y enganchar.\n2. La entrega de la presentación:• Neurociencia\, fe
 edback y estrategias de manejo del pánico escénico.• Conductas de apertura
  y cierre\, strorytelling y captura del interés.• Sesión de microteaching:
  aprender haciendo\, con práctica y feedback.\n3. Temas especiales:• Destr
 eza comunicativa y capacidad de articular ideas: laboratorio de dicción.• 
 Microteaching\, design thinking y presentaciones con datos (DataStorytelli
 ng).\nFacilitador: Dr. Enrique Margery- Doctor en Educación y TEDx speaker
 .- Profesor invitado de la Universidad de Querétaro (UAQ\, México) y la Un
 iversidad UAGM (Puerto Rico).- Diseña capacitación para desarrollo de soft
  skills basado en aprendizaje por la experiencia\, GBL y “reto-aprendizaje
 ”.- Coach especialista en ciencia de la colaboración y manejo de top perfo
 rmers.- Diseña herramientas para medir el Sentido de Urgencia\, el “termóm
 etro de la colaboración” y la rentabilidad de la capacitación\, entre otro
 s.- Autor de los libros “Complejidad y Competencias”\, “Herramientas de Co
 aching”\, “El Viaje” (Editorial Norma\; uno de los primeros libros de psic
 ología positiva publicados) y 'Bájate de la escalera'.\nTodas nuestras cap
 acitaciones pueden ser impartidas en su organización\nInscripciones a info
 @cedeso.co.crTel: +506 2225-1007 Whatsapp: +506 6063-9111Visite nuestra pá
 gina www.cedeso.co.crfacebook.com/cedesocostarica
DTSTART:20231205T140000Z
DTEND:20231205T220000Z
GEO:00;0
LOCATION:Hotel Radisson\, Barrio Tournón
ORGANIZER;CN=:info@cedeso.co.cr
SEQUENCE:1
SUMMARY:Presentaciones Efectivas Avanzadas (PEA)
TRANSP:OPAQUE
URL:https://cedeso.co.cr/eventos-anteriores/780-presentaciones-efectivas-av
 anzadas-pea
END:VEVENT
END:VCALENDAR
