BEGIN:VCALENDAR
VERSION:2.0
PRODID:-//Cedeso//NONSGML kigkonsult.se iCalcreator 2.30.10//
CALSCALE:GREGORIAN
METHOD:PUBLISH
UID:bb2c5337-e2b6-4a38-b574-2d2701baca5b
X-WR-CALNAME:iCagenda
X-WR-CALDESC:Event Management Extension for Joomla!
X-WR-RELCALID:3E26604A-50F4-4449-8B3E-E4F4932D05B5
X-WR-TIMEZONE:America/Costa_Rica
BEGIN:VTIMEZONE
TZID:America/Costa_Rica
BEGIN:STANDARD
TZNAME:CST
DTSTART:20220306T060000
TZOFFSETFROM:+0000
TZOFFSETTO:-0600
END:STANDARD
END:VTIMEZONE
BEGIN:VEVENT
UID:fb2f19d9-1ea8-4186-9dd1-52839d925bb7
DTSTAMP:20260419T130026Z
CATEGORIES:Mejores Prácticas Organizacionales
CLASS:PUBLIC
DESCRIPTION;ALTREP="CID:<FFFF__=0ABBE548DFE235B58f9e8a93d@coffeebean.com>":
 Taller:\nLa atracción y retención del talento en el 2024\nFecha: 6 de dici
 embre 2023.Horario: 8:30 a.m. a 12:00 m.d.Duración: 3.5 horas.Metodología:
  Virtual. Plataforma: Zoom.Inversión: ¢45.000 + 2% de IVA por participante
 . Incluye: Material y certificado de participación en versión digital.Faci
 litador: Lic. Carlos Solera.\nContenidos • La economía actual y las caract
 erísticas de los perfiles más cotizados. • Evolución del reclutamiento\, l
 as nuevas tendencias emergentes. • Tendencias novedosas respecto a la ¨mar
 ca empleador¨. • Como usar CHATGPT para agilizar la gestión. • Los básicos
  -no tanto- para contribuir a la retención del talento. • ¿Puedo automatiz
 ar parte del proceso? • Tips para detectar a quienes NO contratar.\nFacili
 tador: Lic. Carlos Solera Umaña Licenciado en administración de negocios\,
  certificado en Compensación y Beneficios y en Competencias\, técnico en s
 eguros. Más de 30 años de experiencia en todos los subprocesos de Gestión 
 de RRHH. Amplia experiencia en organizaciones de manufactura\, servicios\,
  cooperativas y ONG’s. Actual fundador y director de CEDESO.S.A.\nTodas nu
 estras capacitaciones pueden ser impartidas en su organización\nInscripcio
 nes a: info@cedeso.co.crTel: +506 2225-1007 Whatsapp: +506 6063-9111Visite
  nuestra página www.cedeso.co.crfacebook.com/cedesocostarica
DTSTART:20231206T143000Z
DTEND:20231206T180000Z
GEO:00;0
LOCATION:Virtual por Zoom
ORGANIZER;CN=:info@cedeso.co.cr
SEQUENCE:1
SUMMARY:La atracción y retención del talento en el 2024
TRANSP:OPAQUE
URL:https://cedeso.co.cr/eventos-anteriores/782-la-atracci%C3%B3n-y-retenci
 %C3%B3n-del-talento-en-el-2024
END:VEVENT
END:VCALENDAR
