BEGIN:VCALENDAR
VERSION:2.0
PRODID:-//Cedeso//NONSGML kigkonsult.se iCalcreator 2.30.10//
CALSCALE:GREGORIAN
METHOD:PUBLISH
UID:5ddc6db9-75dd-4a68-be04-da423f92ff4e
X-WR-CALNAME:iCagenda
X-WR-CALDESC:Event Management Extension for Joomla!
X-WR-RELCALID:3E26604A-50F4-4449-8B3E-E4F4932D05B5
X-WR-TIMEZONE:America/Costa_Rica
BEGIN:VTIMEZONE
TZID:America/Costa_Rica
BEGIN:STANDARD
TZNAME:CST
DTSTART:20220313T060000
TZOFFSETFROM:+0000
TZOFFSETTO:-0600
END:STANDARD
END:VTIMEZONE
BEGIN:VEVENT
UID:61991ce3-953a-4e95-b8c2-028fc41e9a64
DTSTAMP:20260419T125757Z
CATEGORIES:Mejores Prácticas Organizacionales
CLASS:PUBLIC
DESCRIPTION;ALTREP="CID:<FFFF__=0ABBE548DFE235B58f9e8a93d@coffeebean.com>":
 Taller:\nEl arte de encantar a clientes difíciles\nFecha: 13 y 14 de dicie
 mbre del 2023.Horario: 8:30 a.m. a 11:30 a.m.Duración total: 6 horas.Plata
 forma: Zoom.Inversión: ¢75.000 + 2% de IVA por participante. Incluye: Mate
 rial y certificado de participación en PDF.Facilitadora: Lic. Fernanda Lju
 ba.\nSesión 1:- Manejo de quejas y objeciones- Diferencia entre queja\, ob
 jeción y reclamo- ¿Por qué se quejan los clientes?- La importancia de las 
 quejas- Canales de reclamos- Quejas comunes- Monitoreo y seguimiento de qu
 ejas- Comunicación asertiva: el filtro- Escucha activa\nSesión 2:- El arte
  de preguntar- La teoría del Iceberg- Técnica efectiva para resolver queja
 s- Emociones y servicio al cliente- Leer al cliente a través de su lenguaj
 e corporal- Lenguaje corporal empático del vendedor- Frases para encantar 
 al cliente- Sonrisas vendedoras- Identificar distintos tipos de clientes\n
 Facilitadora: Lic. Fernanda LjubaExperience Director\, BeYouLic. En RRPP\,
  Diplomado Internacional en Kinesics Coaching y CNV.Posgrado en Imagen Cor
 porativa y Management. Más de 10 años de experiencia en Service Excellence
  en Hotelería de lujo y Retail.Trabajó en PANDORA\, Nestlé Nespresso para 
 Latinoamérica\, en el Hotel Caesar Park y en organismos públicos en las ár
 eas de Comunicación\, RR.HH y RRPP\, eventos\, servicio al cliente y turis
 mo.Su carrera profesional se desarrolló en varios países de Latinoamérica 
 y Europa liderando equipos\, construyendo marcas y trasmitiendo su experie
 ncia en el servicio y las ventas.Consultor\, Coach &amp\; Trainer de equip
 os en imagen pública y profesional\, ventas y servicio de excelencia.\nTod
 as nuestras capacitaciones pueden ser impartidas en su organización\nInscr
 ipciones a: info@cedeso.co.crTel: +506 2225-1007 / Whatsapp: +506 6063-911
 1Visite nuestra página www.cedeso.co.crfacebook.com/cedesocostarica\n 
DTSTART:20231213T143000Z
DTEND:20231214T183000Z
GEO:00;0
LOCATION:Virtual por Zoom
ORGANIZER;CN=:info@cedeso.co.cr
SEQUENCE:1
SUMMARY:El arte de encantar a clientes difíciles
TRANSP:OPAQUE
URL:https://cedeso.co.cr/eventos-anteriores/784-el-arte-de-encantar-a-clien
 tes-dif%C3%ADciles-3
END:VEVENT
END:VCALENDAR
