BEGIN:VCALENDAR
VERSION:2.0
PRODID:-//Cedeso//NONSGML kigkonsult.se iCalcreator 2.30.10//
CALSCALE:GREGORIAN
METHOD:PUBLISH
UID:40520864-9a51-43ff-b34f-f9d5a5eccf99
X-WR-CALNAME:iCagenda
X-WR-CALDESC:Event Management Extension for Joomla!
X-WR-RELCALID:3E26604A-50F4-4449-8B3E-E4F4932D05B5
X-WR-TIMEZONE:America/Costa_Rica
BEGIN:VTIMEZONE
TZID:America/Costa_Rica
BEGIN:STANDARD
TZNAME:CST
DTSTART:20220424T060000
TZOFFSETFROM:+0000
TZOFFSETTO:-0600
END:STANDARD
END:VTIMEZONE
BEGIN:VEVENT
UID:974a0c45-0004-4996-91ad-443cc715e0ed
DTSTAMP:20260419T125413Z
CATEGORIES:Mejores Prácticas Organizacionales
CLASS:PUBLIC
DESCRIPTION;ALTREP="CID:<FFFF__=0ABBE548DFE235B58f9e8a93d@coffeebean.com>":
 Taller:\n¡Dar buen feedback!\nFecha: 24 de enero del 2024.Horario: 8:30 a.
 m. a 12:30 m.d.Duración: 4 horas.Plataforma: Zoom.Inversión: ¢65.000 + 2% 
 de IVA por participante.Incluye: Material didáctico y certificado de parti
 cipación en versión digital.Facilitador: Dr. Enrique Margery\nMotivación a
 l taller: la retroalimentación es tan clave en el desempeño que debe ser r
 ealizada aplicando las mejores prácticas.\nObjetivos: explicar\, aplicar y
  apreciar las herramientas asociadas con dar una retroalimentación efectiv
 a a los colaboradores.\nContenidos:● La retroalimentación dentro del ciclo
  completo de la gerencia del desempeño (alinear\, acompañar\, evaluar y re
 troalimentar el desempeño).● La mala retroalimentación: juegos transaccion
 ales entre evaluador y evaluado que cierran el proceso (y cómo evitarlos).
 ● Mejores prácticas en el manejo de sesiones 1:1.● Modelos SIP y SEP en co
 municación asertiva Ejercicio de autaplicación y diseño SEP para dos colab
 oradores.● Once mejores prácticas de feedback clásico y de feedback apreci
 ativo.● La retroalimentación como un proceso: el trabajo de automonitoreo 
 y autodirección de los colaboradores.\nPluses: Entre los asistentes de sor
 teará una copia del libro de management “Actuar para pensar” y una copia d
 el libro “Herramientas de Coaching” del instructor.\nFacilitador: Dr. Enri
 que Margery- Doctor en Educación y TEDx speaker.- Profesor invitado de la 
 Universidad de Querétaro (UAQ\, México) y la Universidad UAGM (Puerto Rico
 ).- Diseña capacitación para desarrollo de soft skills basado en aprendiza
 je por la experiencia\, GBL y “reto-aprendizaje”.- Coach especialista en c
 iencia de la colaboración y manejo de top performers.- Diseña herramientas
  para medir el Sentido de Urgencia\, el “termómetro de la colaboración” y 
 la rentabilidad de la capacitación\, entre otros.- Autor de los libros “Co
 mplejidad y Competencias”\, “Herramientas de Coaching”\, “El Viaje” (Edito
 rial Norma\; uno de los primeros libros de psicología positiva publicados)
  y 'Bájate de la escalera'.\nTodas nuestras capacitaciones pueden ser impa
 rtidas en su organización\nInscripciones a info@cedeso.co.crTel: +506 2225
 -1007 Whatsapp: +506 6063-9111Visite nuestra página www.cedeso.co.crfacebo
 ok.com/cedesocostarica
DTSTART:20240124T143000Z
DTEND:20240124T183000Z
GEO:00;0
LOCATION:Virtual por Zoom
ORGANIZER;CN=:info@cedeso.co.cr
SEQUENCE:1
SUMMARY:¡Dar buen feedback!
TRANSP:OPAQUE
URL:https://cedeso.co.cr/eventos-anteriores/789-%C2%A1dar-buen-feedback-2
END:VEVENT
END:VCALENDAR
