BEGIN:VCALENDAR
VERSION:2.0
PRODID:-//Cedeso//NONSGML kigkonsult.se iCalcreator 2.30.10//
CALSCALE:GREGORIAN
METHOD:PUBLISH
UID:54486063-0c76-4c4d-8480-36e33c96d3d2
X-WR-CALNAME:iCagenda
X-WR-CALDESC:Event Management Extension for Joomla!
X-WR-RELCALID:3E26604A-50F4-4449-8B3E-E4F4932D05B5
X-WR-TIMEZONE:America/Costa_Rica
BEGIN:VTIMEZONE
TZID:America/Costa_Rica
BEGIN:STANDARD
TZNAME:CST
DTSTART:20220416T060000
TZOFFSETFROM:+0000
TZOFFSETTO:-0600
END:STANDARD
END:VTIMEZONE
BEGIN:VEVENT
UID:5e9f1f3a-eb29-492f-99f1-da7dc43bef51
DTSTAMP:20260419T130028Z
CATEGORIES:Mejores Prácticas Organizacionales
CLASS:PUBLIC
DESCRIPTION;ALTREP="CID:<FFFF__=0ABBE548DFE235B58f9e8a93d@coffeebean.com>":
 Taller:\nLa atracción y retención del talento en el 2024\nFecha: 16 y 17 d
 e enero 2024.Horario: 8:30 a.m. a 10:30 a.m.Duración: 4 horas.Modalidad: V
 irtual. Plataforma: Zoom.Inversión: ¢55.000 + 2% de IVA por participante. 
 Incluye: Material y certificado de participación en versión digital.\nCont
 enidos • La evolución del reclutamiento\, las tendencias actuales más efec
 tivas. • Características de los perfiles más cotizados. • Los factores que
  nos permiten acceder al talento. • Fundamentos de la gestión de la compen
 sación que es conveniente dominen los reclutadores. • Tips para detectar a
  los candidatos tóxicos. • Cómo usar ChatGPT para agilizar la gestión. • P
 ráctica del uso de ChatGPT.\nFacilitador: Lic. Carlos Solera Umaña Licenci
 ado en administración de negocios\, certificado en Compensación y Benefici
 os y en Competencias\, técnico en seguros. Más de 30 años de experiencia e
 n todos los subprocesos de Gestión de RRHH. Amplia experiencia en organiza
 ciones de manufactura\, servicios\, cooperativas y ONG’s. Actual fundador 
 y director de CEDESO.S.A.\nTodas nuestras capacitaciones pueden ser impart
 idas en su organización\nInscripciones a: info@cedeso.co.crTel: +506 2225-
 1007 Whatsapp: +506 6063-9111Visite nuestra página www.cedeso.co.crfaceboo
 k.com/cedesocostarica
DTSTART:20240116T143000Z
DTEND:20240117T163000Z
GEO:00;0
LOCATION:Virtual por Zoom
ORGANIZER;CN=:info@cedeso.co.cr
SEQUENCE:1
SUMMARY:La atracción y retención del talento en el 2024
TRANSP:OPAQUE
URL:https://cedeso.co.cr/eventos-anteriores/791-la-atracci%C3%B3n-y-retenci
 %C3%B3n-del-talento-en-el-2025
END:VEVENT
END:VCALENDAR
