BEGIN:VCALENDAR
VERSION:2.0
PRODID:-//Cedeso//NONSGML kigkonsult.se iCalcreator 2.30.10//
CALSCALE:GREGORIAN
METHOD:PUBLISH
UID:c9ee7519-2f74-4b96-91ae-20abc573517c
X-WR-CALNAME:iCagenda
X-WR-CALDESC:Event Management Extension for Joomla!
X-WR-RELCALID:3E26604A-50F4-4449-8B3E-E4F4932D05B5
X-WR-TIMEZONE:America/Costa_Rica
BEGIN:VTIMEZONE
TZID:America/Costa_Rica
BEGIN:STANDARD
TZNAME:CST
DTSTART:20220516T060000
TZOFFSETFROM:+0000
TZOFFSETTO:-0600
END:STANDARD
END:VTIMEZONE
BEGIN:VEVENT
UID:6d132122-1931-4d5f-9a67-644ad855586f
DTSTAMP:20260419T125412Z
CATEGORIES:Operaciones
CLASS:PUBLIC
DESCRIPTION;ALTREP="CID:<FFFF__=0ABBE548DFE235B58f9e8a93d@coffeebean.com>":
 Curso:\nGestión integral de la bodega: aspectos operacionales para agregar
  valor\nFecha: 15 y 16 de febrero del 2024.Horario: 8:30 a.m. a 12:30 m.d.
 Duración: 8 horas.Plataforma: Zoom.Inversión: ¢80.000 + 2% de IVA por part
 icipante.Incluye: Material y certificado de participación en PDF.Facilitad
 or: Ing. Víctor León\, Mg.\nObjetivo del seminario:Estudiar un modelo prác
 tico para el manejo correcto de una bodega independientemente de su tamaño
 \, uso y capacidad.\nQuién debe tomar este curso:Ingenieros industriales\,
  profesionales administrativos relacionados con la logística\, supervisore
 s de bodegas\, compras o control de inventarios\, personal profesional en 
 formación para asumir cargos en cadena de suministro. Profesionales intere
 sados.\nNivel del curso:El curso está dirigidos a persona con formación su
 perior a nivel técnico o de licenciatura\, el enfoque es táctico y se usar
 á un lenguaje técnico intermedio de fácil comprensión.\nMetodología:Teóric
 o práctico\, se muestran videos\, casos de estudio y ejercicios.\nContenid
 os:1) Gestión de bodegasObjetivo: Establecer el marco de conceptos y eleme
 ntos de gestión necesarios para operar la bodega y definir sus procesos.• 
 Propósito• Objetivos• Control de la bodega\n2) Modelo de control y gestión
  de bodegaObjetivo: Estudiar en forma detallada los procesos de la bodega 
 para lograr que esta sea generadora de valor y no consumidora de recursos.
 • La organización de la bodega\, aspectos esenciales• Inbound: Recepción y
  Putaway• Almacenaje ◦ Normas de manejo de materiales ◦ Buenas prácticas d
 e almacenaje ◦ Equipamiento de manejo y almacenamiento• Outbound: Picking\
 , Chequeo\, Despacho• Otras operaciones• 5 s en bodega• Estrategias genera
 les para el manejo de bodegas\nFacilitador: Ing. Víctor León\, Mg.-Ingenie
 ro Industrial con estudios de Postgrado en Ingeniería Industrial\, Gerenci
 a de RRHH y Dinámica de Grupos.-Experiencia en las áreas de Distribución\,
  Atención al Cliente y Planificación de la Producción\, Manejo de Inventar
 ios\, Almacenes\, Costos y Elaboración de Proyectos de Inversión.- Capacit
 ador en áreas gerenciales y técnicas\, con 20 años de experiencia.\nTodas 
 nuestras capacitaciones pueden ser impartidas en su organización\nInscripc
 iones a: info@cedeso.co.crTel: +506 2225-1007WA: +506 6063-9111Visite nues
 tra página www.cedeso.co.crfacebook.com/cedesocostarica
DTSTART:20240215T143000Z
DTEND:20240216T183000Z
GEO:00;0
LOCATION:Virtual por Zoom
ORGANIZER;CN=:info@cedeso.co.cr
SEQUENCE:1
SUMMARY:Gestión integral de la bodega
TRANSP:OPAQUE
URL:https://cedeso.co.cr/eventos-anteriores/795-gesti%C3%B3n-integral-de-la
 -bodega-4
END:VEVENT
END:VCALENDAR
