BEGIN:VCALENDAR
VERSION:2.0
PRODID:-//Cedeso//NONSGML kigkonsult.se iCalcreator 2.30.10//
CALSCALE:GREGORIAN
METHOD:PUBLISH
UID:b97f5eb8-1580-45c8-81df-bf9ef48f1d61
X-WR-CALNAME:iCagenda
X-WR-CALDESC:Event Management Extension for Joomla!
X-WR-RELCALID:3E26604A-50F4-4449-8B3E-E4F4932D05B5
X-WR-TIMEZONE:America/Costa_Rica
BEGIN:VTIMEZONE
TZID:America/Costa_Rica
BEGIN:STANDARD
TZNAME:CST
DTSTART:20220606T060000
TZOFFSETFROM:+0000
TZOFFSETTO:-0600
END:STANDARD
END:VTIMEZONE
BEGIN:VEVENT
UID:e1dc5aa6-d485-4cc2-b1cd-36fa92f03483
DTSTAMP:20260419T173758Z
CATEGORIES:Operaciones
CLASS:PUBLIC
DESCRIPTION;ALTREP="CID:<FFFF__=0ABBE548DFE235B58f9e8a93d@coffeebean.com>":
 Seminario:\nInventario cíclico\nUn método para mejorar continuamente\nFech
 a: 7 y 8 de marzo del 2024.Horario: 8:30 a.m. a 12:30 m.d.Duración: 8 hora
 s.Modalidad: Virtual.Plataforma: Zoom.Inversión: ¢75.000 + 2% de IVA por p
 articipante.Incluye: Material y certificado de participación en PDF.Facili
 tador: Ing. Víctor León\, Mg.\nObjetivo del seminario: Presentar a los par
 ticipantes un método práctico y probado para implementar un efectivo contr
 ol de su inventario físico que garantice exactitudes superiores al 95%\nTe
 mario: • Control de inventario físico eslabón entre la bodega y la adminis
 tración de inventarios. • Clasificación Abc. • Metodología de toma del inv
 entario físico. • Qué es y cómo se implementa un inventario cíclico. • Con
 trol preventivo de pérdidas y variaciones de inventario. • Implementación 
 de un sistema de mejora continua vía inventario cíclico.\nFacilitador: Ing
 . Víctor León\, Mg.Ingeniero Industrial con estudios de Postgrado en Ingen
 iería Industrial\, Gerencia de RRHH y Dinámica de Grupos. Experiencia en l
 as áreas de Distribución\, Atención al Cliente y Planificación de la Produ
 cción\, Manejo de Inventarios\, Almacenes\, Costos y Elaboración de Proyec
 tos de Inversión. Certificación como conferencista internacional. Miembro 
 de la asociación de conferencistas Hispanos. Capacitador en áreas gerencia
 les y técnicas\, con 20 años de experiencia.\nTodas nuestras capacitacione
 s pueden ser impartidas en su organización.\nInscripciones a: info@cedeso.
 co.crTel: +506 2225-1007WA: +506 6063-9111Visite nuestra página www.cedeso
 .co.crfacebook.com/cedesocostarica
DTSTART:20240307T143000Z
DTEND:20240308T183000Z
GEO:00;0
LOCATION:Virtual por Zoom
ORGANIZER;CN=:info@cedeso.co.cr
SEQUENCE:1
SUMMARY:Inventario cíclico
TRANSP:OPAQUE
URL:https://cedeso.co.cr/eventos-anteriores/796-inventario-c%C3%ADclico-5
END:VEVENT
END:VCALENDAR
