BEGIN:VCALENDAR
VERSION:2.0
PRODID:-//Cedeso//NONSGML kigkonsult.se iCalcreator 2.30.10//
CALSCALE:GREGORIAN
METHOD:PUBLISH
UID:2c8cbc61-a001-48d0-b148-a3758cf6d9c7
X-WR-CALNAME:iCagenda
X-WR-CALDESC:Event Management Extension for Joomla!
X-WR-RELCALID:3E26604A-50F4-4449-8B3E-E4F4932D05B5
X-WR-TIMEZONE:America/Costa_Rica
BEGIN:VTIMEZONE
TZID:America/Costa_Rica
BEGIN:STANDARD
TZNAME:CST
DTSTART:20220514T060000
TZOFFSETFROM:+0000
TZOFFSETTO:-0600
END:STANDARD
END:VTIMEZONE
BEGIN:VEVENT
UID:5449a174-c47c-4243-8ec1-7b7582a6af03
DTSTAMP:20260419T130027Z
CATEGORIES:Mejores Prácticas Organizacionales
CLASS:PUBLIC
DESCRIPTION;ALTREP="CID:<FFFF__=0ABBE548DFE235B58f9e8a93d@coffeebean.com>":
 Taller:\nDesarrollo de las competencias claves para jefes y supervisores\n
 Las cuatro competencias esenciales para lograr y mantener el liderazgo en 
 nuestros equipos de trabajo\nFecha: 13 y 14 de febrero del 2024.Horario: 8
 :30 a.m. a 11:30 a.m.Duración: 6 horas.Modalidad: Virtual. Plataforma: Zoo
 m.Inversión: ¢65.000 + 2% de IVA por participante. Incluye: Material y cer
 tificado de participación en versión digital.Facilitador: Lic. Carlos Sole
 ra.\nDirigido aJefes y supervisores de equipos quienes requieran adquirir 
 o refrescar sus competencias para el trabajo.\nContenidosSección 1: Lidera
 zgo• Conociendo mi estilo de liderazgo.• Descubriendo cómo analizar los es
 tilos de los demás.• Lo que un líder debe saber sobre seleccionar y desarr
 ollar talento.\nSección 2: Comunicación para líderes• Las técnicas de comu
 nicación esenciales para un supervisor. • La importancia de saber como val
 idar para incentivar el comportamiento.• El uso del acuse de recibo para m
 anejar la comunicación.• Cómo aprovechar la comunicación no verbal.\nSecci
 ón 3: El manejo del tiempo• Las Principales razones por las que nos alcanz
 a el tiempo.• Herramientas claves de la administración del tiempo y cómo l
 ograr cumplir con los plazos.• Aprendiendo a priorizar\, delegar y dar seg
 uimiento.\nSección 4: Cómo anticipar conflictos y mantener un clima labora
 l agradable y productivo• La ley del tercer partido.• Aprendiendo a confro
 ntar.• Las nuevas maneras de construir equipo.• Cómo mantener un excelente
  clima laboral.\nFacilitador: Lic. Carlos Solera Umaña Licenciado en admin
 istración de negocios\, certificado en Compensación y Beneficios y en Comp
 etencias\, técnico en seguros. Más de 30 años de experiencia en todos los 
 subprocesos de Gestión de RRHH. Amplia experiencia en organizaciones de ma
 nufactura\, servicios\, cooperativas y ONG’s. Actual fundador y director d
 e CEDESO.S.A.\nTodas nuestras capacitaciones pueden ser impartidas en su o
 rganización\nInscripciones a: info@cedeso.co.crTel: +506 2225-1007 Whatsap
 p: +506 6063-9111Visite nuestra página www.cedeso.co.crfacebook.com/cedeso
 costarica
DTSTART:20240213T143000Z
DTEND:20240214T173000Z
GEO:00;0
LOCATION:Virtual por Zoom
ORGANIZER;CN=:info@cedeso.co.cr
SEQUENCE:1
SUMMARY:Desarrollo de las competencias claves para jefes y supervisores
TRANSP:OPAQUE
URL:https://cedeso.co.cr/eventos-anteriores/798-desarrollo-de-las-competenc
 ias-claves-para-jefes-y-supervisores
END:VEVENT
END:VCALENDAR
