BEGIN:VCALENDAR
VERSION:2.0
PRODID:-//Cedeso//NONSGML kigkonsult.se iCalcreator 2.30.10//
CALSCALE:GREGORIAN
METHOD:PUBLISH
UID:88214ab5-36fc-426f-bd53-0fd800ff2eb6
X-WR-CALNAME:iCagenda
X-WR-CALDESC:Event Management Extension for Joomla!
X-WR-RELCALID:3E26604A-50F4-4449-8B3E-E4F4932D05B5
X-WR-TIMEZONE:America/Costa_Rica
BEGIN:VTIMEZONE
TZID:America/Costa_Rica
BEGIN:STANDARD
TZNAME:CST
DTSTART:20220521T060000
TZOFFSETFROM:+0000
TZOFFSETTO:-0600
END:STANDARD
END:VTIMEZONE
BEGIN:VEVENT
UID:bf8afc87-811e-4a92-9df7-f5e75d2d7107
DTSTAMP:20260419T160709Z
CATEGORIES:Mejores Prácticas Organizacionales
CLASS:PUBLIC
DESCRIPTION;ALTREP="CID:<FFFF__=0ABBE548DFE235B58f9e8a93d@coffeebean.com>":
 Taller:\nCálculo de cargas de trabajo\n¡Entre los asistentes se sorteará u
 no de los libros del instructor!\nFecha: 20 de febrero del 2024.Horario: 8
 :30 a.m. a 12:30 m.d.Duración: 4 horas.Plataforma: Zoom.Inversión: ¢65.000
  + 2% de IVA por participante.Incluye: Material didáctico y certificado de
  participación en PDF.Facilitador: Dr. Enrique Margery\nMotivación al tall
 er: los estudios de cargas de trabajo nacieron en un mundo completamente d
 iferente al actual ¿Cómo se calculan las cargas hoy?\nObjetivos: explicar\
 , aplicar y apreciar las herramientas para el cálculo de cargas de trabajo
  en la organización moderna.\nContenidos:• De los therbligs de 1911 a los 
 equipos ágiles del 2023: de los estudios de cargas en la cadena de montaje
  a la organización moderna.• Combatiendo “áreas grises”: cargas de trabajo
  en procesos optimizados.• Trabajo mental\, procesos en interacción y trab
 ajo cooperativo y colaborativo.• Procesos\, actividades y mapeo de individ
 uos y equipos (tablas de asignación).• Cálculo del tiempo tipo y trabajo c
 on suplementos para complejidad\, interacción entre procesos y multitaskin
 g. Modelo estadístico y modelo de estimación profesional fraccionada (EPF)
 .• Cálculo de capacidad equivalente y sobrecarga o infracarga de personal 
 en los procesos y estrategias de balanceo de cargas en procesos complejos.
 \nFacilitador: Dr. Enrique Margery- Doctor en Educación y TEDx speaker.- P
 rofesor invitado de la Universidad de Querétaro (UAQ\, México) y la Univer
 sidad UAGM (Puerto Rico).- Diseña capacitación para desarrollo de soft ski
 lls basado en aprendizaje por la experiencia\, GBL y “reto-aprendizaje”.- 
 Coach especialista en ciencia de la colaboración y manejo de top performer
 s.- Diseña herramientas para medir el Sentido de Urgencia\, el “termómetro
  de la colaboración” y la rentabilidad de la capacitación\, entre otros.- 
 Autor de los libros “Complejidad y Competencias”\, “Herramientas de Coachi
 ng”\, “El Viaje” (Editorial Norma\; uno de los primeros libros de psicolog
 ía positiva publicados) y 'Bájate de la escalera'.\nTodas nuestras capacit
 aciones pueden ser impartidas en su organización\nInscripciones a info@ced
 eso.co.crTel: +506 2225-1007 Whatsapp: +506 6063-9111Visite nuestra página
  www.cedeso.co.crfacebook.com/cedesocostarica
DTSTART:20240220T143000Z
DTEND:20240220T183000Z
GEO:00;0
LOCATION:Virtual por Zoom
ORGANIZER;CN=:info@cedeso.co.cr
SEQUENCE:1
SUMMARY:Cálculo de cargas de trabajo
TRANSP:OPAQUE
URL:https://cedeso.co.cr/eventos-anteriores/803-c%C3%A1lculo-de-cargas-de-t
 rabajo-2
END:VEVENT
END:VCALENDAR
