BEGIN:VCALENDAR
VERSION:2.0
PRODID:-//Cedeso//NONSGML kigkonsult.se iCalcreator 2.30.10//
CALSCALE:GREGORIAN
METHOD:PUBLISH
UID:aad9f91f-7b83-43ab-8f51-40ee0d5948b6
X-WR-CALNAME:iCagenda
X-WR-CALDESC:Event Management Extension for Joomla!
X-WR-RELCALID:3E26604A-50F4-4449-8B3E-E4F4932D05B5
X-WR-TIMEZONE:America/Costa_Rica
BEGIN:VTIMEZONE
TZID:America/Costa_Rica
BEGIN:STANDARD
TZNAME:CST
DTSTART:20220529T060000
TZOFFSETFROM:+0000
TZOFFSETTO:-0600
END:STANDARD
END:VTIMEZONE
BEGIN:VEVENT
UID:309d5ae9-1eae-4415-8d85-c81d2e317904
DTSTAMP:20260419T161358Z
CATEGORIES:Mejores Prácticas Organizacionales
CLASS:PUBLIC
DESCRIPTION;ALTREP="CID:<FFFF__=0ABBE548DFE235B58f9e8a93d@coffeebean.com>":
 Taller:\nHabilidades ejecutivas para asistentes\, oficinistas y auxiliares
 \nProactividad y eficacia\nFecha: 28 y 29 de febrero del 2024.Horario: 8:3
 0 a.m. a 11:00 a.m.Duración: 5 horas.Virtual por Zoom.Inversión: ¢55.000 +
  2% IVA por participante. Incluye: Materiales y certificado de participaci
 ón en versión digital.Facilitador: Lic. Carlos Solera.\nDirigido a:- Asist
 entes administrativos.- Personal de apoyo de oficina.- Secretarias y recep
 cionistas.- Todo tipo de personal administrativo.\nObjetivos: Conocer los 
 principios y técnicas que le permitan incrementar su productividad\, agili
 zar su trabajo de manera eficaz y ser elemento de enlace entre usuarios in
 ternos y externos.\nBeneficios:- Adquirirá el conocimiento\, herramientas 
 y técnicas para convertirse en un asistente eficaz de área y/o departament
 o.- Fortalecerá sus habilidades interpersonales y las de autogestión.\nMet
 odologíaTaller con énfasis en las dinámicas que promueven la participación
  de los asistentes.\nContenido:Introducción: Los grandes cambios acaeciend
 o en el campo laboralEl perfil actual del asistente\n1. Reconocer mi estil
 o y fortalezas naturalesEjercicio: Test para determinar mis fortalezas Ana
 lizando el perfil de mi puesto Estableciendo mis áreas de oportunidadCuále
 s son los ladrones de la productividad\n2.Cómo manejar el tiempoCómo lidia
 r con el estrésLa disciplina efectiva en la oficinaEl cuadrante Urgente-Im
 portanteCómo lograr que te alcance el tiempo para todo 3.Mejorando las hab
 ilidades de comunicación formal e informalLa importancia de la comunicació
 n informalManejando los pequeños grandes detalles de la oficinaAprendiendo
  a manejar el acuse de reciboEl ciclo de comunicación en la prácticaClaves
  para tener éxito en la obtención de apoyo y el logro de las acciones\nFac
 ilitador: Lic. Carlos Solera Umaña Licenciado en administración de negocio
 s\, técnico en seguros. Más de 30 años de experiencia en todos los subproc
 esos de Gestión de RRHH\, como responsable de reclutamiento selecciono más
  de mil personas en los diferentes países de Centroamérica. Amplia experie
 ncia en organizaciones de manufactura\, servicios\, cooperativas y ONG’s. 
 Actual fundador y director de CEDESO.S.A.\nTodas nuestras capacitaciones p
 ueden ser impartidas en su organización\nInscripciones a info@cedeso.co.cr
 Tel: +506 2225-1007 Whatsapp: +506 6063-9111Visite nuestra página www.cede
 so.co.crfacebook.com/cedesocostarica
DTSTART:20240228T143000Z
DTEND:20240229T170000Z
GEO:00;0
LOCATION:Virtual por Zoom
ORGANIZER;CN=:info@cedeso.co.cr
SEQUENCE:1
SUMMARY:Habilidades ejecutivas para asistentes\, oficinistas y auxiliares
TRANSP:OPAQUE
URL:https://cedeso.co.cr/eventos-anteriores/804-habilidades-ejecutivas-para
 -asistentes,-oficinistas-y-auxiliares-2
END:VEVENT
END:VCALENDAR
