BEGIN:VCALENDAR
VERSION:2.0
PRODID:-//Cedeso//NONSGML kigkonsult.se iCalcreator 2.30.10//
CALSCALE:GREGORIAN
METHOD:PUBLISH
UID:5e251a9c-8060-4f38-9b8b-57f2a1fe5f4b
X-WR-CALNAME:iCagenda
X-WR-CALDESC:Event Management Extension for Joomla!
X-WR-RELCALID:3E26604A-50F4-4449-8B3E-E4F4932D05B5
X-WR-TIMEZONE:America/Costa_Rica
BEGIN:VTIMEZONE
TZID:America/Costa_Rica
BEGIN:STANDARD
TZNAME:CST
DTSTART:20220611T060000
TZOFFSETFROM:+0000
TZOFFSETTO:-0600
END:STANDARD
END:VTIMEZONE
BEGIN:VEVENT
UID:a7c5c566-3f81-40c3-9bfb-c4d1a8047812
DTSTAMP:20260419T160427Z
CATEGORIES:Mejores Prácticas Organizacionales
CLASS:PUBLIC
DESCRIPTION;ALTREP="CID:<FFFF__=0ABBE548DFE235B58f9e8a93d@coffeebean.com>":
 Taller:\nPAEM (Primeros Auxilios Emocionales para Managers)\nFecha: 12 de 
 marzo del 2024.Horario: 8:30 a.m. a 12:30 m.d.Duración: 4 horas.Plataforma
 : Zoom.Inversión: ¢65.000 + 2% de IVA por participante.Incluye: Material d
 idáctico y certificado de participación en versión digital.Facilitador: Dr
 . Enrique Margery\n¡El liderazgo cambió! En la nueva normalidad\, urge dot
 ar a nuestros equipos y líderes de herramientas para el desarrollo de la r
 esiliencia individual\, grupal y organizacional...\nObjetivo orientativo: 
 las y los participantes serán capaces de explicar\, aplicar y apreciar her
 ramientas esenciales para dar apoyo a personas y equipos en tiempos difíci
 les.\nTemario: • Buenas y malas prácticas: ¿Qué tipo de escucha y apoyo de
 bemos dar a los colaboradores? y ¿Cuáles son las condiciones específicas e
 n el contexto organizacional? • Assessment inicial y aplicación del protoc
 olo PARE. • Reglas de escucha efectiva (qué hacer y qué no hacer) y ground
 ing. • Herramientas psicoeducativas y tres estrategias de “trabajo en el p
 ensamiento” para managers. • Hacia una pedagogía de la compasión y el apoy
 o fuera del contexto terapéutico. Compasión hacia otros\, desde otros y tr
 abajo con autoafirmaciones para el growth mindset (mentalidad de crecimien
 to). • Ejercicios de aprendizaje intencionado para las y los participantes
 .\nFacilitador: Dr. Enrique Margery- Doctor en Educación y TEDx speaker.- 
 Profesor invitado de la Universidad de Querétaro (UAQ\, México) y la Unive
 rsidad UAGM (Puerto Rico).- Diseña capacitación para desarrollo de soft sk
 ills basado en aprendizaje por la experiencia\, GBL y “reto-aprendizaje”.-
  Coach especialista en ciencia de la colaboración y manejo de top performe
 rs.- Diseña herramientas para medir el Sentido de Urgencia\, el “termómetr
 o de la colaboración” y la rentabilidad de la capacitación\, entre otros.-
  Autor de los libros “Complejidad y Competencias”\, “Herramientas de Coach
 ing”\, “El Viaje” (Editorial Norma\; uno de los primeros libros de psicolo
 gía positiva publicados) y 'Bájate de la escalera'.\nTodas nuestras capaci
 taciones pueden ser impartidas en su organización\nInscripciones a: info@c
 edeso.co.crTel: +506 2225-1007 WA: +506 6063-9111Visite nuestra página www
 .cedeso.co.crfacebook.com/cedesocostarica
DTSTART:20240312T143000Z
DTEND:20240312T183000Z
GEO:00;0
LOCATION:Virtual por Zoom
ORGANIZER;CN=:info@cedeso.co.cr
SEQUENCE:1
SUMMARY:Primeros Auxilios Emocionales para Managers
TRANSP:OPAQUE
URL:https://cedeso.co.cr/eventos-anteriores/806-primeros-auxilios-emocional
 es-para-managers
END:VEVENT
END:VCALENDAR
