BEGIN:VCALENDAR
VERSION:2.0
PRODID:-//Cedeso//NONSGML kigkonsult.se iCalcreator 2.30.10//
CALSCALE:GREGORIAN
METHOD:PUBLISH
UID:9e0f1a27-b300-444b-824b-606930af41b3
X-WR-CALNAME:iCagenda
X-WR-CALDESC:Event Management Extension for Joomla!
X-WR-RELCALID:3E26604A-50F4-4449-8B3E-E4F4932D05B5
X-WR-TIMEZONE:America/Costa_Rica
BEGIN:VTIMEZONE
TZID:America/Costa_Rica
BEGIN:STANDARD
TZNAME:CST
DTSTART:20220618T060000
TZOFFSETFROM:+0000
TZOFFSETTO:-0600
END:STANDARD
END:VTIMEZONE
BEGIN:VEVENT
UID:a2caf9fe-48d7-42e4-9f55-91b519a660e0
DTSTAMP:20260419T125728Z
CATEGORIES:Mejores Prácticas Organizacionales
CLASS:PUBLIC
DESCRIPTION;ALTREP="CID:<FFFF__=0ABBE548DFE235B58f9e8a93d@coffeebean.com>":
 Taller:\n¡Tic! ¡Tac! Manejo del tiempo\nFecha: 19 de marzo del 2024.Horari
 o: 8:30 a.m. a 12:30 m.d.Duración: 4 horas.Plataforma: Zoom.Inversión: ¢65
 .000 + 2% de IVA por participante.Incluye: Material didáctico y certificad
 o de participación en PDF.Facilitador: Dr. Enrique Margery\nMotivación: en
  un mundo de colaboración\, trabajo remoto y equipos ágiles\, es esencial 
 conocer las herramientas para aprovechar el tiempo al máximo.\nObjetivos: 
 las y los participantes podrán explicar\, aplicar y apreciar comportamient
 os y herramientas asociados con el manejo de prioridades\, la ejecución co
 n agilidad y los procesos con sentido de urgencia.\nContenidos:1.El manejo
  de las Prioridades: • Trampas y problemas culturales que se “comen el tie
 mpo” (distractores\, ganancias secundarias y cómo frenarlos). • Ciencia de
  prioridades: lo urgente y lo importante son cosas diferentes. • Matriz de
  prioridades “1-3-9” y 7 estrategias para aprovechar el tiempo (reuniones 
 ágiles\, manejo de distractores\, freno asertivo\, etc.). • Kanban y agili
 smo cuando perder el tiempo es un tema sistémico. 2.El Sentido de Urgencia
  (SU):  • Acción precisa y libre de errores: 4 dimensiones del Sentido de 
 Urgencia. • Los comportamientos en pro y contra del cumplimiento de promes
 as\, agilidad\, tenacidad y manejo de prioridades.  • Aplicación de herram
 ienta de Autoevaluación del SU.3.¡No pierda el tiempo! (La ciencia de la e
 jecución) • Falta de claridad y de disciplina: siete obstáculos que empuja
 n al fracaso en la ejecución (¡Y qué hacer al respecto!). • Tres expectati
 vas a tener claras para asegurar la ejecución ágil de las tareas\, proceso
 s y proyectos. • Liderazgo en la ejecución: guías para la acción y comport
 amientos pro y contra de producir resultados\, sincronizar y alinear.\nFac
 ilitador: Dr. Enrique Margery- Doctor en Educación y TEDx speaker.- Profes
 or invitado de la Universidad de Querétaro (UAQ\, México) y la Universidad
  UAGM (Puerto Rico).- Diseña capacitación para desarrollo de soft skills b
 asado en aprendizaje por la experiencia\, GBL y “reto-aprendizaje”.- Coach
  especialista en ciencia de la colaboración y manejo de top performers.- D
 iseña herramientas para medir el Sentido de Urgencia\, el “termómetro de l
 a colaboración” y la rentabilidad de la capacitación\, entre otros.- Autor
  de los libros “Complejidad y Competencias”\, “Herramientas de Coaching”\,
  “El Viaje” (Editorial Norma\; uno de los primeros libros de psicología po
 sitiva publicados) y 'Bájate de la escalera'.\nTodas nuestras capacitacion
 es pueden ser impartidas en su organización\nInscripciones a info@cedeso.c
 o.crTel: +506 2225-1007 WA: +506 6063-9111Visite nuestra página www.cedeso
 .co.crfacebook.com/cedesocostarica
DTSTART:20240319T143000Z
DTEND:20240319T183000Z
GEO:00;0
LOCATION:Virtual por Zoom
ORGANIZER;CN=:info@cedeso.co.cr
SEQUENCE:1
SUMMARY:¡Tic! ¡Tac! Manejo del tiempo
TRANSP:OPAQUE
URL:https://cedeso.co.cr/eventos-anteriores/807-%C2%A1tic-%C2%A1tac-manejo-
 del-tiempo-2
END:VEVENT
END:VCALENDAR
