BEGIN:VCALENDAR
VERSION:2.0
PRODID:-//Cedeso//NONSGML kigkonsult.se iCalcreator 2.30.10//
CALSCALE:GREGORIAN
METHOD:PUBLISH
UID:79036072-4871-4644-bf9b-7ec6490724e7
X-WR-CALNAME:iCagenda
X-WR-CALDESC:Event Management Extension for Joomla!
X-WR-RELCALID:3E26604A-50F4-4449-8B3E-E4F4932D05B5
X-WR-TIMEZONE:America/Costa_Rica
BEGIN:VTIMEZONE
TZID:America/Costa_Rica
BEGIN:STANDARD
TZNAME:CST
DTSTART:20220611T060000
TZOFFSETFROM:+0000
TZOFFSETTO:-0600
END:STANDARD
END:VTIMEZONE
BEGIN:VEVENT
UID:8f7101cc-f474-498c-bd8d-94b0dde72b1d
DTSTAMP:20260419T155948Z
CATEGORIES:Mejores Prácticas Organizacionales
CLASS:PUBLIC
DESCRIPTION;ALTREP="CID:<FFFF__=0ABBE548DFE235B58f9e8a93d@coffeebean.com>":
 Taller:\nConversaciones difíciles\n¿Hay conversaciones que te cuestan? ¡Es
 te taller es para vos!Herramientas que facilitan el afrontamiento de conve
 rsaciones difíciles.\nFecha: 12 y 13 de marzo del 2024.Horario: 8:30 a.m. 
 a 11:00 a.m.Duración total: 5 horas.Plataforma: Zoom.Inversión: ¢65.000 + 
 2% de IVA por participante.Incluye: Material y certificado en versión digi
 tal.Facilitadoras: María José Zissu y Andrea Ayub\n¿Por qué tomar este tal
 ler?Para ampliar tus competencias comunicacionales en la era de la agilida
 d.\nObjetivos del taller:Este taller brindará valiosas herramientas para a
 bordar conversaciones difíciles o desafiantes\, a través de un modelo efec
 tivo de conversaciones que les permitirá a los participantes afrontar esas
  situaciones de manera exitosa.\n¡Súmate a vivir esta experiencia de apren
 dizaje juntos!\nContenidos:• Ejercitar diferentes perspectivas para una co
 municación asertiva. El impacto de las interpretaciones.• Habilidades para
  comunicar lo que nos cuesta.• Matriz de aprendizaje: Reconocernos en nues
 tras fortalezas y oportunidades de mejora al comunicarnos.• El rol de las 
 emociones cuando nos comunicamos. Herramientas para poder gestionar las em
 ociones al hablar• Construcción de confianza: la confianza como una constr
 ucción y sus 4 pilares.• Modelo de conversación efectiva. Cómo diseñarla.•
  Aspectos claves.\n \nFacilitadoras:\nMaría José ZissuDPL. Universitaria e
 n Recursos HumanosDPL. Universitaria en Inteligencia EmocionalCoach Ontoló
 gicaConsultora en HR\nAndrea AyubLic. en Comunicación SocialCoach Ontológi
 ca/EjecutivaEntrenadora de equiposConsultora en HR\nTodas nuestras capacit
 aciones pueden ser impartidas en su organización\nInscripciones a: info@ce
 deso.co.crTel: +506 2225-1007 WA: +506 6063-9111Visite nuestra página www.
 cedeso.co.crfacebook.com/cedesocostarica
DTSTART:20240312T143000Z
DTEND:20240313T170000Z
GEO:00;0
LOCATION:Virtual por Zoom
ORGANIZER;CN=:info@cedeso.co.cr
SEQUENCE:1
SUMMARY:Conversaciones difíciles
TRANSP:OPAQUE
URL:https://cedeso.co.cr/eventos-anteriores/808-conversaciones-dif%C3%ADcil
 es
END:VEVENT
END:VCALENDAR
