BEGIN:VCALENDAR
VERSION:2.0
PRODID:-//Cedeso//NONSGML kigkonsult.se iCalcreator 2.30.10//
CALSCALE:GREGORIAN
METHOD:PUBLISH
UID:00975838-3144-491f-b138-28d86f31a9d0
X-WR-CALNAME:iCagenda
X-WR-CALDESC:Event Management Extension for Joomla!
X-WR-RELCALID:3E26604A-50F4-4449-8B3E-E4F4932D05B5
X-WR-TIMEZONE:America/Costa_Rica
BEGIN:VTIMEZONE
TZID:America/Costa_Rica
BEGIN:STANDARD
TZNAME:CST
DTSTART:20220604T060000
TZOFFSETFROM:+0000
TZOFFSETTO:-0600
END:STANDARD
END:VTIMEZONE
BEGIN:VEVENT
UID:34b52d01-a298-477e-a30c-ed3ab7c945c4
DTSTAMP:20260419T161232Z
CATEGORIES:Mejores Prácticas Organizacionales
CLASS:PUBLIC
DESCRIPTION;ALTREP="CID:<FFFF__=0ABBE548DFE235B58f9e8a93d@coffeebean.com>":
 Taller\nLa pre entrevista en 5 minutos\n¿Cómo agilizar el proceso de selec
 ción conservando la calidad?Paso a paso la estrategia para filtrar las com
 petencias principales\nFecha: 5 y 6 de marzo del 2024.Horario: 8:30 a.m. a
  11:30 a.m.Duración: 6 horas.Plataforma: Zoom.Inversión: ¢75.000 + 2% de I
 VA por participante.Incluye: Material y certificado de participación en ve
 rsión digital.Facilitador: Lic. Carlos Solera\nDirigido a: Todo nivel de g
 estores de RR.HH. y quienes realicen entrevistas de selección.\nContenidos
 :• El proceso de reclutamiento y selección en el 2024.• La lista de contro
 l de la preselección.• Análisis del perfil del cargo\, aspectos claves.• E
 l uso de herramientas de evaluación.• La pre entrevista propiamente dicha:
  objetivos y el paso a paso.• Múltiples ejemplos de preguntas inusuales.\n
 Facilitador: Lic. Carlos Solera Umaña Profesional con más de 30 años de ex
 periencia en la gestión del talento.Certificado en Gestión por Competencia
 s y Compensación. Experiencia en variedad de industrias y en Centroamérica
 .\nTodas nuestras capacitaciones pueden ser impartidas en su organización
 \nInscripciones a: info@cedeso.co.crTel: +506 2225-1007 WA: +506 6063-9111
 Visite nuestra página www.cedeso.co.crfacebook.com/cedesocostarica
DTSTART:20240305T143000Z
DTEND:20240306T173000Z
GEO:00;0
LOCATION:Virtual por Zoom
ORGANIZER;CN=:info@cedeso.co.cr
SEQUENCE:1
SUMMARY:La pre entrevista en 5 minutos
TRANSP:OPAQUE
URL:https://cedeso.co.cr/eventos-anteriores/810-la-pre-entrevista-en-5-minu
 tos-3
END:VEVENT
END:VCALENDAR
