BEGIN:VCALENDAR
VERSION:2.0
PRODID:-//Cedeso//NONSGML kigkonsult.se iCalcreator 2.30.10//
CALSCALE:GREGORIAN
METHOD:PUBLISH
UID:238764ce-d032-4ebd-97fd-8e06b5db7490
X-WR-CALNAME:iCagenda
X-WR-CALDESC:Event Management Extension for Joomla!
X-WR-RELCALID:3E26604A-50F4-4449-8B3E-E4F4932D05B5
X-WR-TIMEZONE:America/Costa_Rica
BEGIN:VTIMEZONE
TZID:America/Costa_Rica
BEGIN:STANDARD
TZNAME:CST
DTSTART:20220530T060000
TZOFFSETFROM:+0000
TZOFFSETTO:-0600
END:STANDARD
END:VTIMEZONE
BEGIN:VEVENT
UID:1cbde8e1-5081-4769-8b3c-3e2eedeec81c
DTSTAMP:20260419T160752Z
CATEGORIES:Mejores Prácticas Organizacionales
CLASS:PUBLIC
DESCRIPTION;ALTREP="CID:<FFFF__=0ABBE548DFE235B58f9e8a93d@coffeebean.com>":
 ¡Venga al webinar gratuito!\n¿Funciona la encuesta de necesidades de capac
 itación?\nJueves 29 de febrero de 9:00 a.m. a 10:00 a.m.Facilitador: Dr. E
 nrique Margery\nTemario:1. Todo lo que siempre quiso saber sobre la DNC\, 
 pero temía preguntar.2. Grace under pressure: los siete problemas de la en
 cuesta de necesidades de capacitación.3. ¡Oops! Problemas y grandes temas 
 al descubierto para el área de capacitación...4. y entonces... ¿Qué hacemo
 s?\nInformación:info@cedeso.co.crTel: +506 2225-1007WA: +506 6063-9111
DTSTART:20240229T150000Z
DTEND:20240229T160000Z
GEO:00;0
LOCATION:Virtual por Zoom
ORGANIZER;CN=:info@cedeso.co.cr
SEQUENCE:1
SUMMARY:¿Funciona la encuesta de necesidades de capacitación?
TRANSP:OPAQUE
URL:https://cedeso.co.cr/eventos-anteriores/816-%C2%BFfunciona-la-encuesta-
 de-necesidades-de-capacitaci%C3%B3n
END:VEVENT
END:VCALENDAR
