BEGIN:VCALENDAR
VERSION:2.0
PRODID:-//Cedeso//NONSGML kigkonsult.se iCalcreator 2.30.10//
CALSCALE:GREGORIAN
METHOD:PUBLISH
UID:c113e604-1d02-4059-b7d9-9fb0c65c7093
X-WR-CALNAME:iCagenda
X-WR-CALDESC:Event Management Extension for Joomla!
X-WR-RELCALID:3E26604A-50F4-4449-8B3E-E4F4932D05B5
X-WR-TIMEZONE:America/Costa_Rica
BEGIN:VTIMEZONE
TZID:America/Costa_Rica
BEGIN:STANDARD
TZNAME:CST
DTSTART:20220725T060000
TZOFFSETFROM:+0000
TZOFFSETTO:-0600
END:STANDARD
END:VTIMEZONE
BEGIN:VEVENT
UID:2b5c36f2-5047-4f78-bef7-e2e84bffab9f
DTSTAMP:20260419T142808Z
CATEGORIES:Operaciones
CLASS:PUBLIC
DESCRIPTION;ALTREP="CID:<FFFF__=0ABBE548DFE235B58f9e8a93d@coffeebean.com>":
 Curso:\nGestión integral de la bodega: aspectos operacionales para agregar
  valor\nFecha: 25 y 26 de abril del 2024.Horario: 8:30 a.m. a 12:30 m.d.Du
 ración: 8 horas.Plataforma: Zoom.Inversión: ¢80.000 + 2% de IVA por partic
 ipante.Incluye: Material y certificado de participación en PDF.Facilitador
 : Ing. Víctor León\, Mg.\nObjetivo del seminario:Estudiar un modelo prácti
 co para el manejo correcto de una bodega independientemente de su tamaño\,
  uso y capacidad.\nQuien debe tomar este curso:Ingenieros industriales\, p
 rofesionales administrativos relacionados con la logística\, supervisores 
 de bodegas\, compras o control de inventarios\, personal profesional en fo
 rmación para asumir cargos en cadena de suministro. Profesionales interesa
 dos.\nNivel del curso:El curso está dirigidos a persona con formación supe
 rior a nivel técnico o de licenciatura\, el enfoque es táctico y se usará 
 un lenguaje técnico intermedio de fácil comprensión.\nMetodología:Teórico 
 práctico\, se muestran videos\, casos de estudio y ejercicios.\nContenidos
 :1) Gestión de bodegasObjetivo: Establecer el marco de conceptos y element
 os de gestión necesarios para operar la bodega y definir sus procesos.• Pr
 opósito• Objetivos• Control de la bodega\n2) Modelo de control y gestión d
 e bodegaObjetivo: Estudiar en forma detallada los procesos de la bodega pa
 ra lograr que esta sea generadora de valor y no consumidora de recursos.• 
 La organización de la bodega\, aspectos esenciales• Inbound: Recepción y P
 utaway• Almacenaje ◦ Normas de manejo de materiales ◦ Buenas prácticas de 
 almacenaje ◦ Equipamiento de manejo y almacenamiento• Outbound: Picking\, 
 Chequeo\, Despacho• Otras operaciones• 5 s en bodega• Estrategias generale
 s para el manejo de bodegas\nFacilitador: Ing. Víctor León\, Mg.-Ingeniero
  Industrial con estudios de Postgrado en Ingeniería Industrial\, Gerencia 
 de RRHH y Dinámica de Grupos.-Experiencia en las áreas de Distribución\, A
 tención al Cliente y Planificación de la Producción\, Manejo de Inventario
 s\, Almacenes\, Costos y Elaboración de Proyectos de Inversión.- Capacitad
 or en áreas gerenciales y técnicas\, con 20 años de experiencia.\nTodas nu
 estras capacitaciones pueden ser impartidas en su organización\nInscripcio
 nes a: info@cedeso.co.crTel: +506 2225-1007WA: +506 6063-9111Visite nuestr
 a página www.cedeso.co.crfacebook.com/cedesocostarica
DTSTART:20240425T143000Z
DTEND:20240426T183000Z
GEO:00;0
LOCATION:Virtual por Zoom
ORGANIZER;CN=:info@cedeso.co.cr
SEQUENCE:1
SUMMARY:Gestión integral de la bodega: aspectos operacionales para agregar 
 valor
TRANSP:OPAQUE
URL:https://cedeso.co.cr/eventos-anteriores/831-gesti%C3%B3n-integral-de-la
 -bodega-aspectos-operacionales-para-agregar-valor-2
END:VEVENT
END:VCALENDAR
