BEGIN:VCALENDAR
VERSION:2.0
PRODID:-//Cedeso//NONSGML kigkonsult.se iCalcreator 2.30.10//
CALSCALE:GREGORIAN
METHOD:PUBLISH
UID:351d9787-f22e-43e4-b279-41e0b6127ef4
X-WR-CALNAME:iCagenda
X-WR-CALDESC:Event Management Extension for Joomla!
X-WR-RELCALID:3E26604A-50F4-4449-8B3E-E4F4932D05B5
X-WR-TIMEZONE:America/Costa_Rica
BEGIN:VTIMEZONE
TZID:America/Costa_Rica
BEGIN:STANDARD
TZNAME:CST
DTSTART:20161217T060000
TZOFFSETFROM:+0000
TZOFFSETTO:-0600
END:STANDARD
END:VTIMEZONE
BEGIN:VEVENT
UID:c603da2a-dd77-44ff-a31b-491c4672c952
DTSTAMP:20260421T084022Z
CATEGORIES:Compensaciones y beneficios
CLASS:PUBLIC
DESCRIPTION;ALTREP="CID:<FFFF__=0ABBE548DFE235B58f9e8a93d@coffeebean.com>":
 Seminario:\nLos procedimientos administrativos regulados por la Ley Genera
 l de la Administración Pública y leyes conexas\nObjetivos: 1) Analizar las
  distintas fases del procedimiento administrativo\, principio rectores y l
 as potestades del órgano decisor así como las del órgano director\, además
  de los derechos de las partes. 2) Analizar en especifico las potestades d
 e las administraciones para instaurar medidas cautelares en los procedimie
 ntos administrativos.3) Estudiar el régimen recursivo establecido en la Le
 y General de la Administración Pública.\nDirigido a: Este taller va dirigi
 do a profesionales en derecho y otras profesiones que tengan que ver direc
 tamente con los procedimientos administrativos realizados por las administ
 raciones públicas así como estudiantes de derecho.\nContenidos:\nIntroducc
 ión al procedimiento administrativo.\n1.1 Concepto del procedimiento admin
 istrativo.1.2 Principios del procedimiento administrativo.1.3 Los procedim
 ientos administrativos establecidos en la Ley General de la Administración
  Pública.1.4 Las partes dentro del procedimiento administrativo.\nEtapas d
 el procedimiento administrativo.\n2.1 La investigación preliminar.2.2 Deci
 sión de inicio.2.3 Del inicio del procedimiento.2.4 La comparecencia oral 
 y privada.2.5 Término del procedimiento.2.6 Recursos.2.7 Medidas Cautelare
 s dentro del procedimiento.\nFecha: 18 de setiembre del 2018.Horario: 8:00
  a.m. a 5:00 p.m.Duración: 8 horas.Lugar: Hotel Balmoral\, San José.Invers
 ión: ¢95.000 por persona.Incluye: Alimentación\, material y certificado de
  participación.\nFacilitador: Lic. César Calvo. Licenciado en Derecho (UCR
 ). Cursando Maestría en Derecho Público. Fue Superintendente de Telecomuni
 caciones en el BNCR. Actualmente ejerse como consultor en temas de Proceso
 s administrativos\, procesos contenciosos administrativo y contratación ad
 ministrativa. Miembro de la Comisión de COntratación Administrativa del Co
 legio de Abogados y Abogadas de Costa Rica. Facilitador de cursos de contr
 atación administrativa y procedimientos administrativos en el Colegio de A
 bogados y Fundatec.\nTodas nuestras capacitaciones pueden ser impartidas e
 n su organización\nInscripciones e información al e-mail info@cedeso.co.cr
 Tel: (506) 2225-1007 / Fax: (506) 2253-2774 Visite nuestra página www.cede
 so.co.crfacebook.com/cedesocostarica
DTSTART:20180918T140000Z
DTEND:20180918T230000Z
GEO:+09.933701;-84.075165
LOCATION:Hotel Balmoral\, San José
ORGANIZER;CN=:info@cedeso.co.cr
SEQUENCE:1
SUMMARY:Los procedimientos administrativos regulados por la Ley General de 
 la Administración Pública y leyes conexas
TRANSP:OPAQUE
URL:https://cedeso.co.cr/eventos-anteriores/86-los-procedimientos-administr
 ativos-regulados-por-la-ley-general-de-la-administraci%C3%B3n-p%C3%BAblica
 -y-leyes-conexas
END:VEVENT
END:VCALENDAR
