BEGIN:VCALENDAR
VERSION:2.0
PRODID:-//Cedeso//NONSGML kigkonsult.se iCalcreator 2.30.10//
CALSCALE:GREGORIAN
METHOD:PUBLISH
UID:8c825b64-6105-472a-8cab-0cb82a5d1e03
X-WR-CALNAME:iCagenda
X-WR-CALDESC:Event Management Extension for Joomla!
X-WR-RELCALID:3E26604A-50F4-4449-8B3E-E4F4932D05B5
X-WR-TIMEZONE:America/Costa_Rica
BEGIN:VTIMEZONE
TZID:America/Costa_Rica
BEGIN:STANDARD
TZNAME:CST
DTSTART:20231218T060000
TZOFFSETFROM:+0000
TZOFFSETTO:-0600
END:STANDARD
END:VTIMEZONE
BEGIN:VEVENT
UID:29c0c2a3-4b84-4150-afcf-697dd65392ec
DTSTAMP:20260419T142902Z
CATEGORIES:Mejores Prácticas Organizacionales
CLASS:PUBLIC
DESCRIPTION;ALTREP="CID:<FFFF__=0ABBE548DFE235B58f9e8a93d@coffeebean.com>":
 Fecha: 18 y 25 de setiembre del 2025Horario: 8:30 a.m. a 12:00 m.d.Duració
 n: 7 horas.Modalidad: Virtual.Plataforma: Zoom.Inversión: ¢95.000 + 2% de 
 IVA por participante.Incluye: Material didáctico y certificado de particip
 ación en PDF.Facilitador: Dr. Enrique Margery\nEntrega inhouse: tanto por 
 Zoom como presencial. Taller ideal y de alto impacto para managers\, líder
 es y sus equipos.\nObjetivos:1. Explicar los componentes de la mentalidad 
 métrica y la orientación a resultados.2. Explicar y aplicar las herramient
 as SMART-A\, OKR y BHAG.3. Aplicar el modelo estándar para definir KPIs y 
 explicar sus mejores prácticas.4. Explicar y aplicar la metodología para c
 onstruir KPI integrados.5. Aplicar herramientas de IA para generar y refin
 ar KPIs.\nContenidos:• La mentalidad métrica: autoevaluación de los partic
 ipantes.• ¿Cómo se trabaja una cultura antimétrica? (El cubo del cambio de
  los KPI).• Orientación a Resultados: tres prácticas para desarrollar la c
 ompetencia.• Objetivos SMART\, Big Hairy Audacious Goals y OKR: las herram
 ientas.• Dar con KPIs: calidad\, productividad\, oportunidad y costo.• Tem
 as especiales:- KPIs de segundo nivel: integrando sistemas de indicadores.
 - Laboratorio de manejo de IA para refinar KPIs.\nFacilitador: Dr. Enrique
  Margery- Doctor en Educación y TEDx speaker.- Profesor invitado de la Uni
 versidad de Querétaro (UAQ\, México) y la Universidad UAGM (Puerto Rico).-
  Diseña capacitación para desarrollo de soft skills basado en aprendizaje 
 por la experiencia\, GBL y “reto-aprendizaje”.- Coach especialista en cien
 cia de la colaboración y manejo de top performers.- Diseña herramientas pa
 ra medir el Sentido de Urgencia\, el “termómetro de la colaboración” y la 
 rentabilidad de la capacitación\, entre otros.- Autor de los libros “Compl
 ejidad y Competencias”\, “Herramientas de Coaching”\, “El Viaje” (Editoria
 l Norma\; uno de los primeros libros de psicología positiva publicados) y 
 'Bájate de la escalera'.\nTodas nuestras capacitaciones pueden ser imparti
 das en su organización\nInscripciones a info@cedeso.co.crTel: +506 2225-10
 07 WA: +506 6063-9111Visite nuestra página www.cedeso.co.crfacebook.com/ce
 desocostarica
DTSTART:20250918T143000Z
DTEND:20250925T180000Z
GEO:00;0
LOCATION:Virtual por Zoom
ORGANIZER;CN=:info@cedeso.co.cr
SEQUENCE:1
SUMMARY:KPIs: ¿Cómo diseñar y trabajar con indicadores?
TRANSP:OPAQUE
URL:https://cedeso.co.cr/eventos-anteriores/887-kpis-como-disenar-y-trabaja
 r-con-indicadores
END:VEVENT
END:VCALENDAR
