BEGIN:VCALENDAR
VERSION:2.0
PRODID:-//Cedeso//NONSGML kigkonsult.se iCalcreator 2.30.10//
CALSCALE:GREGORIAN
METHOD:PUBLISH
UID:b5775606-52b5-486d-b62f-257c2345d611
X-WR-CALNAME:iCagenda
X-WR-CALDESC:Event Management Extension for Joomla!
X-WR-RELCALID:3E26604A-50F4-4449-8B3E-E4F4932D05B5
X-WR-TIMEZONE:America/Costa_Rica
BEGIN:VTIMEZONE
TZID:America/Costa_Rica
BEGIN:STANDARD
TZNAME:CST
DTSTART:20230507T060000
TZOFFSETFROM:+0000
TZOFFSETTO:-0600
END:STANDARD
END:VTIMEZONE
BEGIN:VEVENT
UID:b1010148-c9b1-42c7-bfaa-5609c82da32a
DTSTAMP:20260423T083614Z
CATEGORIES:Compensaciones y beneficios
CLASS:PUBLIC
DESCRIPTION;ALTREP="CID:<FFFF__=0ABBE548DFE235B58f9e8a93d@coffeebean.com>":
 Taller:\nEvaluación y valoración de puestos\nEl proceso de compensación en
  2025\nFecha: 5\, 6 y 7 febrero del 2025.Horario: 8:30 a.m. a 11:30 a.m.Du
 ración total: 9 horas.Plataforma: ZoomInversión: ¢110.000 + 2% de IVA por 
 participante. Incluye: Material y certificado de participación en PDF.\nPú
 blico objetivo:- Responsables y asistentes de compensación.- Generalistas 
 de RR.HH.- Otros profesionales interesados en aprender a valorar puestos.
 \nContenidos:• El proceso de compensación.• El concepto de equidad interna
  y el intercambio.• Utilizando la I.A. en la gestión de la compensación.• 
 Factores compensables.• Evaluación de puestos basados en factores\, grados
  y puntos.• Ejercicio: Proceso de revisar la evaluación.\nFacilitador: Lic
 . Carlos Solera Umaña Licenciado en administración de negocios\, certifica
 do en Compensación y Beneficios y en Competencias\, técnico en seguros. Má
 s de 30 años de experiencia en todos los subprocesos de Gestión de RRHH. A
 mplia experiencia en organizaciones de manufactura\, servicios\, cooperati
 vas y ONG’s. Actual fundador y director de CEDESO S.A.\nTodas nuestras cap
 acitaciones pueden ser impartidas en su organización\nInscripciones a: inf
 o@cedeso.co.crTel: +506 2225-1007WA: +506 6063-9111Visite nuestra página w
 ww.cedeso.co.crfacebook.com/cedesocostarica
DTSTART:20250205T143000Z
DTEND:20250207T173000Z
GEO:00;0
LOCATION:Virtual por Zoom
ORGANIZER;CN=:info@cedeso.co.cr
SEQUENCE:1
SUMMARY:Evaluación y valoración de puestos
TRANSP:OPAQUE
URL:https://cedeso.co.cr/eventos-anteriores/954-evaluacion-y-valoracion-de-
 puestos-5
END:VEVENT
END:VCALENDAR
