BEGIN:VCALENDAR
VERSION:2.0
PRODID:-//Cedeso//NONSGML kigkonsult.se iCalcreator 2.30.10//
CALSCALE:GREGORIAN
METHOD:PUBLISH
UID:b5044b81-42c6-4561-9e5e-35a81dd9272b
X-WR-CALNAME:iCagenda
X-WR-CALDESC:Event Management Extension for Joomla!
X-WR-RELCALID:3E26604A-50F4-4449-8B3E-E4F4932D05B5
X-WR-TIMEZONE:America/Costa_Rica
BEGIN:VTIMEZONE
TZID:America/Costa_Rica
BEGIN:STANDARD
TZNAME:CST
DTSTART:20231223T060000
TZOFFSETFROM:+0000
TZOFFSETTO:-0600
END:STANDARD
END:VTIMEZONE
BEGIN:VEVENT
UID:479c743c-3109-4902-b928-57e536646402
DTSTAMP:20260421T113437Z
CATEGORIES:Desarrollo personal
CLASS:PUBLIC
DESCRIPTION;ALTREP="CID:<FFFF__=0ABBE548DFE235B58f9e8a93d@coffeebean.com>":
 Fecha: 23 y 30 de setiembre del 2025.Horario: 8:30 a.m. a 12:00 m.d.Duraci
 ón: 7 hrsModalidad: Virtual.Plataforma: Zoom.Inversión: ¢95.000 + 2% de IV
 A por participante.Incluye: Material didáctico y certificado de participac
 ión en versión digital.Facilitador: Dr. Enrique Margery\nObjetivos:Explica
 r\, aplicar y apreciar:• La capacidad de asumir\, actuar y rendir cuentas.
 • La «Escalera de la Accountability» y su manejo• Las actividades de reto-
 aprendizaje\, autocoaching y guías para la acción para desarrollar la acco
 untability.\nContenidos:• Las 11 facetas de la accountability: ejercicio d
 e arranque y encuadre.• Accountability: comportamientos de alto y bajo des
 empeño de la competencia y escape del 'ciclo de la victimización'.• ¿Baja 
 asertividad y obstáculos al desempeño? Cinco herramientas para fortalecer 
 la internalidad y la accountability.• La «Escalera de la Accountability”: 
 revisión de los 7 pasos: ¿Dónde estoy yo? y ¿Y mi equipo? Ejercicio «Subo 
 y bajo un peldaño».• Dinámica con el «Asistente IA de Accountability» Preg
 untas adicionales para evaluar no solo dónde están\, sino también cómo per
 ciben a sus compañeros y cómo creen que su equipo los percibe.• Modelo Tab
 la-3®: actividades de reto aprendizaje\, autocoaching y guías para la acci
 ón para liderar la accountability.• Trabajo con «asistente IA de accountab
 ility»: generando retos que integran las tres dimensiones (reto-aprendizaj
 e\, auto coaching y guías para la acción).\nFacilitador: Dr. Enrique Marge
 ry- Doctor en Educación y TEDx speaker.- Asesor pedagógico del ITESM (Inst
 ituto Tecnológico de Monterrey\, México).- Director de The Training Lab. D
 irector asociado de Innovación &amp\; Desarrollo en Adwise corporate advis
 ory/DEINSA Global.- Miembro del equipo HSI-STEM de la Universidad UAGM (Pu
 erto Rico).- Profesor de la Maestría en Psicología del Trabajo y asesor de
 l Instituto de Investigaciones en Educación de la Universidad de Costa Ric
 a.- Coach y trainer ejecutivo en República Dominicana\, Islas Vírgenes\, C
 osta Rica y México (ITESM).- Especialista en ciencia de la colaboración y 
 equipos gerenciales\, diseña formación basada en aprendizaje por la experi
 encia\, PLTL\, GBL y “reto-aprendizaje” apoyado en IA.- Diseña herramienta
 s para medir el Sentido de Urgencia\, la Confianza en el Equipo y la renta
 bilidad de la capacitación\, entre otros.- Autor de los libros “Team build
 ing”\, “La Bandada”\, “Actuar para Pensar”\, “Complejidad y Competencias”\
 , “Herramientas de Coaching”\, “El Viaje” y 'Bájate de la escalera'.\nToda
 s nuestras capacitaciones pueden ser impartidas en su organización\nInscri
 pciones a info@cedeso.co.crTel: +506 2225-1007 Whatsapp: +506 6063-9111Vis
 ite nuestra página www.cedeso.co.crfacebook.com/cedesocostarica\n 
DTSTART:20250923T143000Z
DTEND:20250930T180000Z
GEO:00;0
LOCATION:Virtual por Zoom
ORGANIZER;CN=:info@cedeso.co.cr
SEQUENCE:1
SUMMARY:Accountability en (IA)cción
TRANSP:OPAQUE
URL:https://cedeso.co.cr/eventos-anteriores/959-accountability-en-ia-ccion
END:VEVENT
END:VCALENDAR
