BEGIN:VCALENDAR
VERSION:2.0
PRODID:-//Cedeso//NONSGML kigkonsult.se iCalcreator 2.30.10//
CALSCALE:GREGORIAN
METHOD:PUBLISH
UID:c708aec5-b40f-41a6-aabf-72f234e3fd2a
X-WR-CALNAME:iCagenda
X-WR-CALDESC:Event Management Extension for Joomla!
X-WR-RELCALID:3E26604A-50F4-4449-8B3E-E4F4932D05B5
X-WR-TIMEZONE:America/Costa_Rica
BEGIN:VTIMEZONE
TZID:America/Costa_Rica
BEGIN:STANDARD
TZNAME:CST
DTSTART:20230701T060000
TZOFFSETFROM:+0000
TZOFFSETTO:-0600
END:STANDARD
END:VTIMEZONE
BEGIN:VEVENT
UID:b6312c7c-e7ca-4308-b73f-047be6f2ab81
DTSTAMP:20260423T083642Z
CATEGORIES:Desarrollo personal
CLASS:PUBLIC
DESCRIPTION;ALTREP="CID:<FFFF__=0ABBE548DFE235B58f9e8a93d@coffeebean.com>":
 Taller: \nHabilidades ejecutivas para asistentes\, oficinistas y auxiliare
 s: Efectiva\, gestión del tiempo y uso de la IA\nDescubre cómo potenciar t
 u comunicación\, organización y habilidades naturales con el poder de la I
 nteligencia Artificial\n \nFecha: 1 y 2 de abril del 2025.Horario: 8:30 a.
 m. a 12:00 p.m.Duración: 7 horas.Modalidad: Virtual. Plataforma: Zoom.Inve
 rsión: ¢75.000 + 2% de IVA por participante. Incluye: Material y certifica
 do de participación en versión digital.Facilitador: Lic. Carlos Solera.\nC
 ontenidos:Módulo 1: Claves para el éxito de mi comunicación. 1. Comunicaci
 ón efectiva: verbal\, no verbal y escrita.2. Escucha activa y empatía en e
 l trabajo.3. Cómo manejar situaciones difíciles (conflictos\, malentendido
 s).Módulo 2: Gestión del tiempo y organización.1. Métodos de gestión del t
 iempo.   - Matriz de Eisenhower.    - Técnica Pomodoro.2. Organización de 
 tareas y planificación diaria/semanal.3. Cómo evitar la procrastinación y 
 mantenerse enfocado.Módulo 3: Aplicando la IA en mi trabajo.1. ¿Qué es la 
 Inteligencia Artificial y cómo puede ayudarme en mi trabajo?  2. Herramien
 tas de IA para la redacción y corrección de textos.3. Uso de IA para la or
 ganización y gestión de información.   - Discusión grupal: ¿Cómo podrían l
 os participantes aplicar estas herramientas en su trabajo diario?  \nFacil
 itador: Lic. Carlos Solera Umaña\, Licenciado en Administración de Negocio
 s con certificaciones en Compensación y Gestión por Competencias. Consulto
 r en Recursos Humanos con más de 30 años de experiencia\, especializado en
  el desarrollo de talento y la optimización de procesos. Fundador y Direct
 or de CEDESO S.A.\nTodas nuestras capacitaciones pueden ser impartidas en 
 su organización\nInscripciones a: info@cedeso.co.crTel: +506 2225-1007 WA:
  +506 6063-9111Visite nuestra página www.cedeso.co.crfacebook.com/cedesoco
 starica
DTSTART:20250401T143000Z
DTEND:20250402T180000Z
GEO:00;0
LOCATION:Virtual por Zoom
ORGANIZER;CN=:info@cedeso.co.cr
SEQUENCE:1
SUMMARY:Habilidades ejecutivas para asistentes\, oficinistas y auxiliares
TRANSP:OPAQUE
URL:https://cedeso.co.cr/eventos-anteriores/987-habilidades-ejecutivas-para
 -asistentes-oficinistas-y-auxiliares
END:VEVENT
END:VCALENDAR
