BEGIN:VCALENDAR
VERSION:2.0
PRODID:-//Cedeso//NONSGML kigkonsult.se iCalcreator 2.30.10//
CALSCALE:GREGORIAN
METHOD:PUBLISH
UID:bd5ab4c3-7389-4b6e-b0ae-422066d24aad
X-WR-CALNAME:iCagenda
X-WR-CALDESC:Event Management Extension for Joomla!
X-WR-RELCALID:3E26604A-50F4-4449-8B3E-E4F4932D05B5
X-WR-TIMEZONE:America/Costa_Rica
BEGIN:VTIMEZONE
TZID:America/Costa_Rica
BEGIN:STANDARD
TZNAME:CST
DTSTART:20240122T060000
TZOFFSETFROM:+0000
TZOFFSETTO:-0600
END:STANDARD
END:VTIMEZONE
BEGIN:VEVENT
UID:32e83c94-a0a7-4eb2-9725-3db1abd763f3
DTSTAMP:20260419T140845Z
CATEGORIES:Capacitación y desarrollo
CLASS:PUBLIC
DESCRIPTION;ALTREP="CID:<FFFF__=0ABBE548DFE235B58f9e8a93d@coffeebean.com>":
 Domina los Prompts y multiplica tu productividad\nAprende a usar inteligen
 cia artificial para escribir más rápido\, organizar información y resolver
  tareas en minutos\, no horas.\nFecha: 23 y 24 de octubre del 2025.Horario
 : 8:30 a.m. a 10:30 a.m.Duración: 4 horas.Modalidad: Virtual. Plataforma: 
 Zoom.Inversión: ¢55.000 + 2% de IVA por participante. Incluye: Material y 
 certificado de participación en versión digital.Facilitador: Lic. Carlos S
 olera.\nIdeal para:• Secretarias y asistentes administrativos.• Auxiliares
  contables.• Personal de apoyo en RRHH\, compras\, ventas y logística.• Cu
 alquier persona que quiera trabajar menos tiempo para obtener mejores resu
 ltados.\nLo que lograrán:• Crear prompts efectivos que saquen lo mejor de 
 la IA.• Redactar y corregir textos en segundos.• Resumir documentos y orga
 nizar datos fácilmente.• Aplicar IA a tus tareas reales de oficina.\nFacil
 itador: Lic. Carlos Solera Umaña\, Licenciado en Administración de Negocio
 s con certificaciones en Compensación y Gestión por Competencias. Consulto
 r en Recursos Humanos con más de 30 años de experiencia\, especializado en
  el desarrollo de talento y la optimización de procesos. Fundador y Direct
 or de CEDESO S.A.\nTodas nuestras capacitaciones pueden ser impartidas en 
 su organización\nInscripciones a: info@cedeso.co.crTel: +506 2225-1007 WA:
  +506 6063-9111Visite nuestra página www.cedeso.co.crfacebook.com/cedesoco
 starica
DTSTART:20251023T143000Z
DTEND:20251024T163000Z
GEO:00;0
LOCATION:Virtual por Zoom
ORGANIZER;CN=:info@cedeso.co.cr
SEQUENCE:1
SUMMARY:IA práctica para asistentes y oficinistas
TRANSP:OPAQUE
URL:https://cedeso.co.cr/eventos-cursos-y-seminarios/1044-ia-practica-para-
 asistentes-y-oficinistas
END:VEVENT
END:VCALENDAR
