BEGIN:VCALENDAR
VERSION:2.0
PRODID:-//Cedeso//NONSGML kigkonsult.se iCalcreator 2.30.10//
CALSCALE:GREGORIAN
METHOD:PUBLISH
UID:a82410a8-fa70-4d25-9c3d-728f65ebb54c
X-WR-CALNAME:iCagenda
X-WR-CALDESC:Event Management Extension for Joomla!
X-WR-RELCALID:3E26604A-50F4-4449-8B3E-E4F4932D05B5
X-WR-TIMEZONE:America/Costa_Rica
BEGIN:VTIMEZONE
TZID:America/Costa_Rica
BEGIN:STANDARD
TZNAME:CST
DTSTART:20240712T060000
TZOFFSETFROM:+0000
TZOFFSETTO:-0600
END:STANDARD
END:VTIMEZONE
BEGIN:VEVENT
UID:7d496c6f-166b-43d8-9e0b-82c82e96da0f
DTSTAMP:20260419T135810Z
CATEGORIES:Capacitación y desarrollo
CLASS:PUBLIC
DESCRIPTION;ALTREP="CID:<FFFF__=0ABBE548DFE235B58f9e8a93d@coffeebean.com>":
 Fecha: 13\, 15 y 20 de abril del 2026.Horario: 9:00 a.m. a 12:00 m.d.Durac
 ión: 12 horas\, 9 sincrónicas y 3 asincrónicas.Modalidad: Virtual.Platafor
 ma: Zoom.Inversión: $250 + 2% de IVA por participante.Incluye: - Materiale
 s digitales. - Plantillas personalizadas.- Acceso a plataforma para prácti
 cas guiadas.- Manual de referencia de agentes de IA.- Ejemplo para KNIME\,
  crewai y base44.- Casos de estudio comentados.- Acceso a plataforma de e-
 learning de Construyendo Talento.- Certificación Internacional en Construy
 endo Talento\, emitida por CERTOPUS y conferida tras la aprobación satisfa
 ctoria del examen de certificación.\nIntroducciónEn el mundo empresarial a
 ctual\, la automatización inteligente es clave para mantenerse competitivo
 . Los agentes de IA son sistemas que pueden percibir información\, razonar
  y ejecutar acciones automatizadas para resolver tareas específicas sin in
 tervención humana constante. Aprender a diseñarlos y aplicarlos permite a 
 las organizaciones optimizar tiempos\, reducir errores\, proteger activos 
 digitales y anticipar amenazas\, convirtiéndose en una herramienta esencia
 l para la ciberseguridad moderna.\nEste curso te brindará las bases concep
 tuales y prácticas para comprender qué son los agentes de IA\, cómo funcio
 nan y con qué plataformas se pueden construir\, explorando su papel en la 
 protección de datos\, prevención de ataques y automatización de flujos de 
 seguridad empresarial. Está orientado a personas no técnicas y sin bases d
 e programación.\nMetodología del curso- Modalidad virtual híbrida: sesione
 s sincrónicas y materiales asincrónicos.- Talleres prácticos y estudios de
  caso reales.- Desarrollo de prototipos funcionales de agentes de IA con a
 sistencia guiada del docente.\nContenidos\nCapítulo 1: ¿Qué es un agente d
 e IA?• Definición\, componentes y ciclo de vida de un agente• Tipos de age
 ntes (reactivos\, deliberativos\, cognitivos)• Rol de los agentes en ciber
 seguridad\nCapítulo 2: Plataformas de Low code/no code con IA• Arquitectur
 a general de plataformas• Comparación de plataformas low-code / no-code• I
 ntroducción a herramientas populares como Make\, n8n y KNIME\nCapítulo 3: 
 Introducción KNIME: ejemplo práctico de lógica de desarrollo• En este módu
 lo estudiaremos cómo funciona KNIME y la lógica de desarrollo.• Aclararemo
 s porque esto no es un agente\, pero como entender esto nos va a facilitar
  utilizar las herramientas con agentes de desarrollo.\nCapítulo 4: Herrami
 entas de Agentes de IA• Herramientas de agentes de IA. Crewai y base44\nCa
 pítulo 5: Taller creando mi primer producto con agentes de IA.\nTodas nues
 tras capacitaciones pueden ser impartidas en su organización\nInscripcione
 s a info@cedeso.co.crTel: +506 2225-1007 WA: +506 6063-9111Visite nuestra 
 página www.cedeso.co.crfacebook.com/cedesocostarica
DTSTART:20260413T150000Z
DTEND:20260420T180000Z
GEO:00;0
LOCATION:Virtual por Zoom
ORGANIZER;CN=:info@cedeso.co.cr
SEQUENCE:1
SUMMARY:Agentes de IA
TRANSP:OPAQUE
URL:https://cedeso.co.cr/eventos-cursos-y-seminarios/1047-agentes-de-ia
END:VEVENT
END:VCALENDAR
