BEGIN:VCALENDAR
VERSION:2.0
PRODID:-//Cedeso//NONSGML kigkonsult.se iCalcreator 2.30.10//
CALSCALE:GREGORIAN
METHOD:PUBLISH
UID:77d1ee75-701c-454e-89ed-3373ec015141
X-WR-CALNAME:iCagenda
X-WR-CALDESC:Event Management Extension for Joomla!
X-WR-RELCALID:3E26604A-50F4-4449-8B3E-E4F4932D05B5
X-WR-TIMEZONE:America/Costa_Rica
BEGIN:VTIMEZONE
TZID:America/Costa_Rica
BEGIN:STANDARD
TZNAME:CST
DTSTART:20240804T060000
TZOFFSETFROM:+0000
TZOFFSETTO:-0600
END:STANDARD
END:VTIMEZONE
BEGIN:VEVENT
UID:b9f1e5d2-d824-4153-84c7-ec2fcb818fdd
DTSTAMP:20260419T135826Z
CATEGORIES:Capacitación y desarrollo
CLASS:PUBLIC
DESCRIPTION;ALTREP="CID:<FFFF__=0ABBE548DFE235B58f9e8a93d@coffeebean.com>":
 Fecha: 6\, 8\, 13 y 15 de mayo del 2026Horario: 8:30 a.m. a 11:30 a.m.Dura
 ción: 12 horas.Modalidad: Virtual.Plataforma: Zoom.Inversión: ¢120.000  + 
 2% de IVA por participante.Incluye: Material y certificado de participació
 n en versión digital.Facilitadora: Licda. Jaqueline Jiménez.\nDescripción 
 y contenidos:Es común que\, en el ámbito laboral\, se nos exija redactar d
 ocumentos técnicos\, pero no necesariamente nos han enseñado cómo hacerlo.
  Por tanto\, se propone un curso de técnicas para el desarrollo de la conc
 iencia comunicativa en relación con las estrategias de producción textuale
 s más efectivas y con los siguientes contenidos teóricos de base:a) La efi
 cacia comunicativa y las adecuaciones según la audiencia.b) Los tipos de i
 nformes técnicos.c) Las características del informe técnico: tipos de info
 rmes\, partes\, funciones.d) La redacción clara y coherente de objetivos e
 n un informe técnico.e) La variedad y precisión léxica.f) Los errores comu
 nes en redacción y cómo evitarlos.\nObjetivo general:Transmitir técnicas e
 fectivas a los participantes que les permitan expresarse por escrito con e
 ficacia\, objetividad\, coherencia\, precisión y claridad\, según la situa
 ción comunicativa\, las finalidades y los destinatarios en un informe técn
 ico.\nObjetivos específicos:1. Identificar las características del registr
 o escrito formal y la eficacia en la comunicación.2. Analizar la audiencia
  meta y la situación comunicativa.3. Reconocer las características del inf
 orme técnico:  • Etapas de la escritura y funciones.  • Estructura de info
 rmes: propósito\, antecedentes\, objetivos\, análisis y resultados.  • Red
 actar objetivos claros\, medibles\, realizables y concisos.  • Organizar l
 os datos en un informe por medio de los recursos visuales.4. Reconocer los
  tipos de informes técnicos: avance\, seguimiento\, gestión\, labores\, gi
 ra\, proyecto y financiero.5. Emplear la coherencia\, cohesión\, puntuació
 n\, normas ortográficas y conectores discursivos.6. Practicar estrategias 
 específicas para evitar los errores más comunes en la escritura.\nMetodolo
 gía:• Exposiciones y prácticas guiadas por la instructora.• Lecturas y prá
 cticas.• Producción de textos por parte de las personas participantes.\nFa
 cilitadora:Jaqueline Jiménez Vargas es licenciada en Filología Española de
  la Universidad de Costa Rica. Cuenta con amplia experiencia en didáctica 
 de lenguas. Docente de cursos de redacción de textos administrativos\, téc
 nicos y científicos para distintas empresas e instituciones. Creadora del 
 proyecto Hablemos de Letras en el que funge como revisora de documentos\, 
 trabajos finales de graduación y asesora en investigación. Desde 2017 se h
 a desempeñado como editora para revistas universitarias\, institutos de in
 vestigación y aunado al apoyo que da en distintos proyectos de acción soci
 al enfocados en literatura\, escritura creativa y asesoría en redacción y 
 ortografía para todo público.\nTodas nuestras capacitaciones pueden ser im
 partidas en su organización\nInscripciones a info@cedeso.co.crTel: +506 22
 25-1007 WA: +506 6063-9111Visite nuestra página www.cedeso.co.crfacebook.c
 om/cedesocostarica
DTSTART:20260506T143000Z
DTEND:20260515T173000Z
GEO:00;0
LOCATION:Virtual por Zoom
ORGANIZER;CN=:info@cedeso.co.cr
SEQUENCE:1
SUMMARY:Redacción de informes técnicos
TRANSP:OPAQUE
URL:https://cedeso.co.cr/eventos-cursos-y-seminarios/1077-redaccion-de-info
 rmes-tecnicos-4
END:VEVENT
END:VCALENDAR
