BEGIN:VCALENDAR
VERSION:2.0
PRODID:-//Cedeso//NONSGML kigkonsult.se iCalcreator 2.30.10//
CALSCALE:GREGORIAN
METHOD:PUBLISH
UID:9edba59f-5231-413a-8d57-61e499d07953
X-WR-CALNAME:iCagenda
X-WR-CALDESC:Event Management Extension for Joomla!
X-WR-RELCALID:3E26604A-50F4-4449-8B3E-E4F4932D05B5
X-WR-TIMEZONE:America/Costa_Rica
BEGIN:VTIMEZONE
TZID:America/Costa_Rica
BEGIN:STANDARD
TZNAME:CST
DTSTART:20240819T060000
TZOFFSETFROM:+0000
TZOFFSETTO:-0600
END:STANDARD
END:VTIMEZONE
BEGIN:VEVENT
UID:8fc6af14-aa18-48f2-aace-8840655fa3e4
DTSTAMP:20260419T135826Z
CATEGORIES:Capacitación y desarrollo
CLASS:PUBLIC
DESCRIPTION;ALTREP="CID:<FFFF__=0ABBE548DFE235B58f9e8a93d@coffeebean.com>":
 ¡El in-house es en 4 horas o 6 horas!\nPowerSkills: ¡Ven al Innova-Gym!\nF
 echa: 21 y 28 de mayo del 2026.Horario: 9:00 a.m. a 12:00 m.d.Duración: 6 
 horas.Modalidad: Virtual.Plataforma: Zoom.Inversión: ¢85.000 + 2% de IVA p
 or participante.Incluye: Material didáctico y certificado de participación
  en formato digital.Facilitador: Dr. Enrique Margery\nObjetivos: las y los
  participantes serán capaces de explicar\, aplicar y apreciar las capacida
 des esenciales para poner en juego la innovación empresarial como una comp
 etencia.\nContenidos:1. La Innovación viene de la creatividad\, que viene 
 de la curiosidad: • ¿Cómo desarrollar la curiosidad? • Guías para la acció
 n y preguntas de autocoaching para fortalecer el músculo de la curiosidad.
 2. El KPI central de la Innovación nos ayuda a definirla. 3. La Innovación
  como una competencia: ¿Cuáles son sus niveles? • Una autoevaluación de la
 s cinco capacidades que forman la capacidad de innovar.• Trabajo apreciati
 vo con las fortalezas personales en liderazgo\, apetito de riesgo\, energí
 a\, auto-eficacia y creatividad.4. El “Innova-Gym”:• El “rugby approach” y
  la innovación Ágil: ejercicio de aplicación a la realidad de los particip
 antes.• Guías para la acción\, preguntas de autocoaching y ejercicios de a
 prendizaje intencionado para entrenar la competencia Innovación.\nFacilita
 dor: Dr. Enrique Margery- Doctor en Educación\, posdoctorado en Psicopedag
 ía. TEDx speaker.- Asesor pedagógico del Instituto Tecnológico de Monterre
 y\, México.\nTodas nuestras capacitaciones pueden ser impartidas en su org
 anización\nInscripciones a info@cedeso.co.crTel: +506 2225-1007 WA: +506 6
 063-9111Visite nuestra página www.cedeso.co.crfacebook.com/cedesocostarica
DTSTART:20260521T150000Z
DTEND:20260528T180000Z
GEO:00;0
LOCATION:Virtual por Zoom
ORGANIZER;CN=:info@cedeso.co.cr
SEQUENCE:1
SUMMARY:Desarrollo de la competencia innovación
TRANSP:OPAQUE
URL:https://cedeso.co.cr/eventos-cursos-y-seminarios/1079-desarrollo-de-la-
 competencia-innovacion-2
END:VEVENT
END:VCALENDAR
