BEGIN:VCALENDAR
VERSION:2.0
PRODID:-//Cedeso//NONSGML kigkonsult.se iCalcreator 2.30.10//
CALSCALE:GREGORIAN
METHOD:PUBLISH
UID:58a4243a-7cea-4ffb-a3eb-5804f34a4b7d
X-WR-CALNAME:iCagenda
X-WR-CALDESC:Event Management Extension for Joomla!
X-WR-RELCALID:3E26604A-50F4-4449-8B3E-E4F4932D05B5
X-WR-TIMEZONE:America/Costa_Rica
BEGIN:VTIMEZONE
TZID:America/Costa_Rica
BEGIN:STANDARD
TZNAME:CST
DTSTART:20240810T060000
TZOFFSETFROM:+0000
TZOFFSETTO:-0600
END:STANDARD
END:VTIMEZONE
BEGIN:VEVENT
UID:84daacca-0386-4fea-9268-6d952c620c82
DTSTAMP:20260419T135843Z
CATEGORIES:Capacitación y desarrollo
CLASS:PUBLIC
DESCRIPTION;ALTREP="CID:<FFFF__=0ABBE548DFE235B58f9e8a93d@coffeebean.com>":
 Fecha: 12\, 14 y 19 de mayo del 2026.Horario: 9:00 a.m. a 12:00 m.d.Duraci
 ón: 12 horas sincrónicas y asincrónicas.Modalidad: Virtual.Plataforma: Zoo
 m.Inversión: $250 + 2% de IVA por participante.Incluye: - Incluye CERTIFIC
 ACION de CERTIPROF.- Materiales digitales.- Licencias temporales de IA.- A
 cceso a plataforma para prácticas guiadas.- Manual de referencia de herram
 ientas de IA.- Guías prácticas de uso de IA generativa.- Plantillas para i
 ntegración de IA en procesos empresariales.- Guía de prompts para automati
 zación y análisis de datos.Instructor: Ing. Raúl Trejos MSc MBA.\nIntroduc
 ción:En un entorno donde la inteligencia artificial generativa está transf
 ormando la forma en que trabajamos\, la capacidad de interactuar eficazmen
 te con modelos de IA se ha convertido en una competencia clave para profes
 ionales y organizaciones. La Ingeniería de Prompts permite diseñar instruc
 ciones estructuradas que optimizan la calidad de las respuestas generadas 
 por sistemas de IA\, habilitando nuevas formas de automatización\, creativ
 idad y productividad.\nEste curso prepara a los participantes para compren
 der los fundamentos de la ingeniería de prompts y aplicar técnicas práctic
 as para interactuar de manera efectiva con modelos de lenguaje\, chatbots 
 y herramientas de IA generativa\, alineándose con el syllabus oficial de e
 ste curso que cuenta con la certificación Prompt Engineering Foundation Pr
 ofessional Certification (CPEFPC™).\nPúblico objetivo:- Profesionales de t
 ecnología e innovación.- Desarrolladores y arquitectos de soluciones IA.- 
 Gerentes de proyectos y líderes digitales.- Profesionales de marketing y v
 entas.- Estudiantes y graduados interesados en IA.\nRequisitos previos:- N
 o se requieren conocimientos previos en ingeniería de prompts.\nContenidos
 :Capítulo 1: Fundamentos de Inteligencia Artificial Generativa• Introducci
 ón a la inteligencia artificial y su evolución• ¿Cómo funcionan los modelo
 s de lenguaje?• Importancia de la interacción humano-IA• Trampas comunes d
 e los LLMs\nCapítulo 2: Fundamentos de Prompt Engineering• Qué es promptin
 g y su importancia• Dando instrucciones efectivas a la IA• Rol prompt y es
 tructuración de instrucciones• Few-shot prompting• Formalización de prompt
 s• Método de aprendizaje de prompts\nCapítulo 3: Diseño y optimización de 
 prompts• Combinación de técnicas de prompting• Formatos estructurados de p
 rompts• Manejo de contenido largo• Ingeniería de prompts avanzada• Configu
 ración de chatbots\nCapítulo 4: Aplicaciones prácticas de Prompt Engineeri
 ng• Estructuración automática de datos• Generación de correos electrónicos
 • Creación de blogs y contenido digital• Asistencia en programación• Herra
 mientas de estudio con IA• Marketing digital con prompts\nCapítulo 5: Prom
 pt Engineering Intermedio• Cadena de pensamiento (Chain of Thought)• Zero-
 shot prompting• Autoconsistencia• Generación de conocimiento• Revisión de 
 roles y formatos\nCapítulo 6: Aplicación avanzada y preparación para certi
 ficación• Diseño de prompts para escenarios reales• Uso de ChatGPT y model
 os GPT• Chatbots con base de conocimiento• Preguntas tipo examen• Estrateg
 ias para aprobar la certificación\nFormato del examen de certificación:- F
 ormato: Opción múltiple- Preguntas: 40- Duración: 60 minutos- Puntaje de a
 probación: 80%- Modalidad: En línea- Idioma: Español\nMetodología del curs
 o:- Modalidad virtual con sesiones en vivo y prácticas guiadas.- Explicaci
 ones conceptuales alineadas con syllabus oficial CertiProf.- Talleres prác
 ticos con casos reales de uso de IA generativa.- Preparación directa para 
 examen de certificación internacional.- Acceso a materiales complementario
 s y simulacros de evaluación.\nBio del instructorIng. Raúl Trejos MSc\, MB
 A — Consultor y Educador en Analítica de Datos\, IA y Automatización Empre
 sarial\nConsultor y educador con más de 15 años de experiencia en el diseñ
 o de soluciones de analítica de datos\, inteligencia artificial y automati
 zación de procesos empresariales. Ha liderado proyectos de transformación 
 digital en instituciones públicas\, empresas privadas y organizaciones del
  ecosistema de innovación en Costa Rica\, especializándose en la integraci
 ón de herramientas como IA generativa\, Power BI\, Excel avanzado\, SQL\, 
 R\, Python\, n8n\, Make y KNIME para optimizar procesos y facilitar la tom
 a de decisiones basada en datos.\nActualmente dirige programas de formació
 n en Construyendo Talento\, impulsando el desarrollo de competencias digit
 ales en Latinoamérica\, combinando su sólida formación técnica con habilid
 ades pedagógicas.\nTodas nuestras capacitaciones pueden ser impartidas en 
 su organización\nInscripciones a info@cedeso.co.crTel: +506 2225-1007 WA: 
 +506 6063-9111Visite nuestra página www.cedeso.co.crfacebook.com/cedesocos
 tarica
DTSTART:20260512T150000Z
DTEND:20260519T180000Z
GEO:00;0
LOCATION:Virtual por Zoom
ORGANIZER;CN=:info@cedeso.co.cr
SEQUENCE:1
SUMMARY:Inteligencia Artificial Aplicada
TRANSP:OPAQUE
URL:https://cedeso.co.cr/eventos-cursos-y-seminarios/1081-inteligencia-arti
 ficial-aplicada-2
END:VEVENT
END:VCALENDAR
