BEGIN:VCALENDAR
VERSION:2.0
PRODID:-//Cedeso//NONSGML kigkonsult.se iCalcreator 2.30.10//
CALSCALE:GREGORIAN
METHOD:PUBLISH
UID:0867a30e-afd9-4b5f-8bc8-373e0bbf78f7
X-WR-CALNAME:iCagenda
X-WR-CALDESC:Event Management Extension for Joomla!
X-WR-RELCALID:3E26604A-50F4-4449-8B3E-E4F4932D05B5
X-WR-TIMEZONE:America/Costa_Rica
BEGIN:VTIMEZONE
TZID:America/Costa_Rica
BEGIN:STANDARD
TZNAME:CST
DTSTART:20240827T060000
TZOFFSETFROM:+0000
TZOFFSETTO:-0600
END:STANDARD
END:VTIMEZONE
BEGIN:VEVENT
UID:80b943c6-4bc6-468a-9b61-2b138427cd7e
DTSTAMP:20260419T140446Z
CATEGORIES:Capacitación y desarrollo
CLASS:PUBLIC
DESCRIPTION;ALTREP="CID:<FFFF__=0ABBE548DFE235B58f9e8a93d@coffeebean.com>":
 Fecha: 29 de mayo y 5 de junio del 2026.Horario: 9:00 a.m. a 12:00 m.d.Dur
 ación: 6 horas.Modalidad: Virtual.Plataforma: Zoom.Inversión: ¢85.000 + 2%
  de IVA por participante.Incluye: Material didáctico y certificado de part
 icipación en formato digital.Facilitador: Dr. Enrique Margery\nLos equipos
  ejecutivos deciden bajo presión\, con criterios implícitos y datos desord
 enados. La IA\, sin sistema\, no ayuda. Amplifica el caos. La solución es 
 un sistema de decisión asistida por IA (AIDA + pipeline): con  inputs clar
 os\, criterios explícitos\, riesgos visibles y decisiones trazables\,. los
  equipos pasan de opinar mejor… a decidir mejor.\nObjetivos\, Al finalizar
 \, el participante/equipo podrá• Comprender el rol de IA en decisiones eje
 cutivas.• Analizar una decisión crítica y sus fallas actuales.• Diseñar un
  sistema AIDA y un pipeline de decisión.• Construir un superprompt operati
 vo.• Evaluar casos con semáforo\, red flags y checklist.• Aplicar IA en un
  caso real de su sector.\nContenidos y ejercicios• El problema real de dec
 idir. Decisiones bajo incertidumbre en 20 industrias.  “Autopsia rápida” c
 on mapeo de decisión.• Modelo AIDA. Alineación\, Inputs\, Diagnóstico\, Ap
 rendizaje. Redactar la ficha de una decisión crítica real.• Pipeline de de
 cisión con IA. Plantilla de entrada. Criterios + semáforo. Red flags (S1–S
 4) y debida diligencia. 7 patrones de uso de IA• Superprompts y evaluación
 . 12 reglas operativas (hechos/supuestos\, trazabilidad\, pre-mortem).• In
 tegración y medición (DecisionOps). Introducción a RDI-SI™.\nFacilitador: 
 Dr. Enrique Margery- Doctor en Educación\, posdoctorado en Psicopedagía. T
 EDx speaker.- Asesor pedagógico del Instituto Tecnológico de Monterrey\, M
 éxico.\nTodas nuestras capacitaciones pueden ser impartidas en su organiza
 ción\nInscripciones a info@cedeso.co.crTel: +506 2225-1007 WhatsApp: +506 
 6063-9111Visite nuestra página www.cedeso.co.crfacebook.com/cedesocostaric
 a
DTSTART:20260529T150000Z
DTEND:20260605T180000Z
GEO:00;0
LOCATION:Virtual por Zoom
ORGANIZER;CN=:info@cedeso.co.cr
SEQUENCE:1
SUMMARY:Toma de decisiones asistida por IA para equipos ejecutivos
TRANSP:OPAQUE
URL:https://cedeso.co.cr/eventos-cursos-y-seminarios/1097-toma-de-decisione
 s-asistida-por-ia-para-equipos-ejecutivos
END:VEVENT
END:VCALENDAR
